BEGIN:VCALENDAR
VERSION:2.0
PRODID:-//REBIC - ECPv6.15.20//NONSGML v1.0//EN
CALSCALE:GREGORIAN
METHOD:PUBLISH
X-ORIGINAL-URL:https://rebic.com
X-WR-CALDESC:Events for REBIC
REFRESH-INTERVAL;VALUE=DURATION:PT1H
X-Robots-Tag:noindex
X-PUBLISHED-TTL:PT1H
BEGIN:VTIMEZONE
TZID:America/New_York
BEGIN:DAYLIGHT
TZOFFSETFROM:-0500
TZOFFSETTO:-0400
TZNAME:EDT
DTSTART:20220313T070000
END:DAYLIGHT
BEGIN:STANDARD
TZOFFSETFROM:-0400
TZOFFSETTO:-0500
TZNAME:EST
DTSTART:20221106T060000
END:STANDARD
BEGIN:DAYLIGHT
TZOFFSETFROM:-0500
TZOFFSETTO:-0400
TZNAME:EDT
DTSTART:20230312T070000
END:DAYLIGHT
BEGIN:STANDARD
TZOFFSETFROM:-0400
TZOFFSETTO:-0500
TZNAME:EST
DTSTART:20231105T060000
END:STANDARD
BEGIN:DAYLIGHT
TZOFFSETFROM:-0500
TZOFFSETTO:-0400
TZNAME:EDT
DTSTART:20240310T070000
END:DAYLIGHT
BEGIN:STANDARD
TZOFFSETFROM:-0400
TZOFFSETTO:-0500
TZNAME:EST
DTSTART:20241103T060000
END:STANDARD
BEGIN:DAYLIGHT
TZOFFSETFROM:-0500
TZOFFSETTO:-0400
TZNAME:EDT
DTSTART:20250309T070000
END:DAYLIGHT
BEGIN:STANDARD
TZOFFSETFROM:-0400
TZOFFSETTO:-0500
TZNAME:EST
DTSTART:20251102T060000
END:STANDARD
BEGIN:DAYLIGHT
TZOFFSETFROM:-0500
TZOFFSETTO:-0400
TZNAME:EDT
DTSTART:20260308T070000
END:DAYLIGHT
BEGIN:STANDARD
TZOFFSETFROM:-0400
TZOFFSETTO:-0500
TZNAME:EST
DTSTART:20261101T060000
END:STANDARD
END:VTIMEZONE
BEGIN:VEVENT
DTSTART;TZID=America/New_York:20250408T183000
DTEND;TZID=America/New_York:20250408T203000
DTSTAMP:20260421T043659
CREATED:20240208T185316Z
LAST-MODIFIED:20241213T153559Z
UID:10001654-1744137000-1744144200@rebic.com
SUMMARY:Town of Waxhaw - Board of Commissioners Meeting
DESCRIPTION:
URL:https://rebic.com/event/town-of-waxhaw-board-of-commissioners-meeting-15/2025-04-08/
LOCATION:Waxhaw Police Department\, 3620 Providence Rd S\, Waxhaw\, NC\, 28173\, United States
CATEGORIES:Local Government,Policy and Law
ATTACH;FMTTYPE=image/jpeg:https://rebic.com/wp-content/uploads/2024/02/Waxhaw.jpg
END:VEVENT
BEGIN:VEVENT
DTSTART;TZID=America/New_York:20250325T183000
DTEND;TZID=America/New_York:20250325T203000
DTSTAMP:20260421T043659
CREATED:20240208T185433Z
LAST-MODIFIED:20241213T181854Z
UID:10001764-1742927400-1742934600@rebic.com
SUMMARY:Town of Waxhaw - Board of Commissioners Meeting
DESCRIPTION:
URL:https://rebic.com/event/town-of-waxhaw-board-of-commissioners-meeting-16/2025-03-25/
LOCATION:Waxhaw Police Department\, 3620 Providence Rd S\, Waxhaw\, NC\, 28173\, United States
CATEGORIES:Local Government,Policy and Law
ATTACH;FMTTYPE=image/jpeg:https://rebic.com/wp-content/uploads/2024/02/Waxhaw.jpg
END:VEVENT
BEGIN:VEVENT
DTSTART;TZID=America/New_York:20250311T183000
DTEND;TZID=America/New_York:20250311T203000
DTSTAMP:20260421T043659
CREATED:20240208T185316Z
LAST-MODIFIED:20241213T153559Z
UID:10001653-1741717800-1741725000@rebic.com
SUMMARY:Town of Waxhaw - Board of Commissioners Meeting
DESCRIPTION:
URL:https://rebic.com/event/town-of-waxhaw-board-of-commissioners-meeting-15/2025-03-11/
LOCATION:Waxhaw Police Department\, 3620 Providence Rd S\, Waxhaw\, NC\, 28173\, United States
CATEGORIES:Local Government,Policy and Law
ATTACH;FMTTYPE=image/jpeg:https://rebic.com/wp-content/uploads/2024/02/Waxhaw.jpg
END:VEVENT
BEGIN:VEVENT
DTSTART;TZID=America/New_York:20250225T183000
DTEND;TZID=America/New_York:20250225T203000
DTSTAMP:20260421T043659
CREATED:20240208T185433Z
LAST-MODIFIED:20241213T181854Z
UID:10001763-1740508200-1740515400@rebic.com
SUMMARY:Town of Waxhaw - Board of Commissioners Meeting
DESCRIPTION:
URL:https://rebic.com/event/town-of-waxhaw-board-of-commissioners-meeting-16/2025-02-25/
LOCATION:Waxhaw Police Department\, 3620 Providence Rd S\, Waxhaw\, NC\, 28173\, United States
CATEGORIES:Local Government,Policy and Law
ATTACH;FMTTYPE=image/jpeg:https://rebic.com/wp-content/uploads/2024/02/Waxhaw.jpg
END:VEVENT
BEGIN:VEVENT
DTSTART;TZID=America/New_York:20250211T183000
DTEND;TZID=America/New_York:20250211T203000
DTSTAMP:20260421T043659
CREATED:20240208T185316Z
LAST-MODIFIED:20241213T153559Z
UID:10001652-1739298600-1739305800@rebic.com
SUMMARY:Town of Waxhaw - Board of Commissioners Meeting
DESCRIPTION:
URL:https://rebic.com/event/town-of-waxhaw-board-of-commissioners-meeting-15/2025-02-11/
LOCATION:Waxhaw Police Department\, 3620 Providence Rd S\, Waxhaw\, NC\, 28173\, United States
CATEGORIES:Local Government,Policy and Law
ATTACH;FMTTYPE=image/jpeg:https://rebic.com/wp-content/uploads/2024/02/Waxhaw.jpg
END:VEVENT
BEGIN:VEVENT
DTSTART;TZID=America/New_York:20250128T183000
DTEND;TZID=America/New_York:20250128T203000
DTSTAMP:20260421T043659
CREATED:20240208T185433Z
LAST-MODIFIED:20241213T181854Z
UID:10001762-1738089000-1738096200@rebic.com
SUMMARY:Town of Waxhaw - Board of Commissioners Meeting
DESCRIPTION:
URL:https://rebic.com/event/town-of-waxhaw-board-of-commissioners-meeting-16/2025-01-28/
LOCATION:Waxhaw Police Department\, 3620 Providence Rd S\, Waxhaw\, NC\, 28173\, United States
CATEGORIES:Local Government,Policy and Law
ATTACH;FMTTYPE=image/jpeg:https://rebic.com/wp-content/uploads/2024/02/Waxhaw.jpg
END:VEVENT
BEGIN:VEVENT
DTSTART;TZID=America/New_York:20250114T183000
DTEND;TZID=America/New_York:20250114T203000
DTSTAMP:20260421T043659
CREATED:20240208T185316Z
LAST-MODIFIED:20241213T153559Z
UID:10001651-1736879400-1736886600@rebic.com
SUMMARY:Town of Waxhaw - Board of Commissioners Meeting
DESCRIPTION:
URL:https://rebic.com/event/town-of-waxhaw-board-of-commissioners-meeting-15/2025-01-14/
LOCATION:Waxhaw Police Department\, 3620 Providence Rd S\, Waxhaw\, NC\, 28173\, United States
CATEGORIES:Local Government,Policy and Law
ATTACH;FMTTYPE=image/jpeg:https://rebic.com/wp-content/uploads/2024/02/Waxhaw.jpg
END:VEVENT
BEGIN:VEVENT
DTSTART;TZID=America/New_York:20241210T183000
DTEND;TZID=America/New_York:20241210T203000
DTSTAMP:20260421T043659
CREATED:20240208T185316Z
LAST-MODIFIED:20241213T153559Z
UID:10001433-1733855400-1733862600@rebic.com
SUMMARY:Town of Waxhaw - Board of Commissioners Meeting
DESCRIPTION:
URL:https://rebic.com/event/town-of-waxhaw-board-of-commissioners-meeting-15/2024-12-10/
LOCATION:Waxhaw Police Department\, 3620 Providence Rd S\, Waxhaw\, NC\, 28173\, United States
CATEGORIES:Local Government,Policy and Law
ATTACH;FMTTYPE=image/jpeg:https://rebic.com/wp-content/uploads/2024/02/Waxhaw.jpg
END:VEVENT
BEGIN:VEVENT
DTSTART;TZID=America/New_York:20241126T183000
DTEND;TZID=America/New_York:20241126T203000
DTSTAMP:20260421T043659
CREATED:20240208T185433Z
LAST-MODIFIED:20241213T181854Z
UID:10001454-1732645800-1732653000@rebic.com
SUMMARY:Town of Waxhaw - Board of Commissioners Meeting
DESCRIPTION:
URL:https://rebic.com/event/town-of-waxhaw-board-of-commissioners-meeting-16/2024-11-26/
LOCATION:Waxhaw Police Department\, 3620 Providence Rd S\, Waxhaw\, NC\, 28173\, United States
CATEGORIES:Local Government,Policy and Law
ATTACH;FMTTYPE=image/jpeg:https://rebic.com/wp-content/uploads/2024/02/Waxhaw.jpg
END:VEVENT
BEGIN:VEVENT
DTSTART;TZID=America/New_York:20241112T183000
DTEND;TZID=America/New_York:20241112T203000
DTSTAMP:20260421T043659
CREATED:20240208T185316Z
LAST-MODIFIED:20241213T153559Z
UID:10001432-1731436200-1731443400@rebic.com
SUMMARY:Town of Waxhaw - Board of Commissioners Meeting
DESCRIPTION:
URL:https://rebic.com/event/town-of-waxhaw-board-of-commissioners-meeting-15/2024-11-12/
LOCATION:Waxhaw Police Department\, 3620 Providence Rd S\, Waxhaw\, NC\, 28173\, United States
CATEGORIES:Local Government,Policy and Law
ATTACH;FMTTYPE=image/jpeg:https://rebic.com/wp-content/uploads/2024/02/Waxhaw.jpg
END:VEVENT
BEGIN:VEVENT
DTSTART;TZID=America/New_York:20241022T183000
DTEND;TZID=America/New_York:20241022T203000
DTSTAMP:20260421T043659
CREATED:20240208T185433Z
LAST-MODIFIED:20241213T181854Z
UID:10001453-1729621800-1729629000@rebic.com
SUMMARY:Town of Waxhaw - Board of Commissioners Meeting
DESCRIPTION:
URL:https://rebic.com/event/town-of-waxhaw-board-of-commissioners-meeting-16/2024-10-22/
LOCATION:Waxhaw Police Department\, 3620 Providence Rd S\, Waxhaw\, NC\, 28173\, United States
CATEGORIES:Local Government,Policy and Law
ATTACH;FMTTYPE=image/jpeg:https://rebic.com/wp-content/uploads/2024/02/Waxhaw.jpg
END:VEVENT
BEGIN:VEVENT
DTSTART;TZID=America/New_York:20241008T183000
DTEND;TZID=America/New_York:20241008T203000
DTSTAMP:20260421T043659
CREATED:20240208T185316Z
LAST-MODIFIED:20241213T153559Z
UID:10001431-1728412200-1728419400@rebic.com
SUMMARY:Town of Waxhaw - Board of Commissioners Meeting
DESCRIPTION:
URL:https://rebic.com/event/town-of-waxhaw-board-of-commissioners-meeting-15/2024-10-08/
LOCATION:Waxhaw Police Department\, 3620 Providence Rd S\, Waxhaw\, NC\, 28173\, United States
CATEGORIES:Local Government,Policy and Law
ATTACH;FMTTYPE=image/jpeg:https://rebic.com/wp-content/uploads/2024/02/Waxhaw.jpg
END:VEVENT
BEGIN:VEVENT
DTSTART;TZID=America/New_York:20240924T183000
DTEND;TZID=America/New_York:20240924T203000
DTSTAMP:20260421T043659
CREATED:20240208T185433Z
LAST-MODIFIED:20241213T181854Z
UID:10001452-1727202600-1727209800@rebic.com
SUMMARY:Town of Waxhaw - Board of Commissioners Meeting
DESCRIPTION:
URL:https://rebic.com/event/town-of-waxhaw-board-of-commissioners-meeting-16/2024-09-24/
LOCATION:Waxhaw Police Department\, 3620 Providence Rd S\, Waxhaw\, NC\, 28173\, United States
CATEGORIES:Local Government,Policy and Law
ATTACH;FMTTYPE=image/jpeg:https://rebic.com/wp-content/uploads/2024/02/Waxhaw.jpg
END:VEVENT
BEGIN:VEVENT
DTSTART;TZID=America/New_York:20240910T183000
DTEND;TZID=America/New_York:20240910T203000
DTSTAMP:20260421T043659
CREATED:20240208T185316Z
LAST-MODIFIED:20241213T153559Z
UID:10001430-1725993000-1726000200@rebic.com
SUMMARY:Town of Waxhaw - Board of Commissioners Meeting
DESCRIPTION:
URL:https://rebic.com/event/town-of-waxhaw-board-of-commissioners-meeting-15/2024-09-10/
LOCATION:Waxhaw Police Department\, 3620 Providence Rd S\, Waxhaw\, NC\, 28173\, United States
CATEGORIES:Local Government,Policy and Law
ATTACH;FMTTYPE=image/jpeg:https://rebic.com/wp-content/uploads/2024/02/Waxhaw.jpg
END:VEVENT
BEGIN:VEVENT
DTSTART;TZID=America/New_York:20240827T183000
DTEND;TZID=America/New_York:20240827T203000
DTSTAMP:20260421T043659
CREATED:20240208T185433Z
LAST-MODIFIED:20241213T181854Z
UID:10001451-1724783400-1724790600@rebic.com
SUMMARY:Town of Waxhaw - Board of Commissioners Meeting
DESCRIPTION:
URL:https://rebic.com/event/town-of-waxhaw-board-of-commissioners-meeting-16/2024-08-27/
LOCATION:Waxhaw Police Department\, 3620 Providence Rd S\, Waxhaw\, NC\, 28173\, United States
CATEGORIES:Local Government,Policy and Law
ATTACH;FMTTYPE=image/jpeg:https://rebic.com/wp-content/uploads/2024/02/Waxhaw.jpg
END:VEVENT
BEGIN:VEVENT
DTSTART;TZID=America/New_York:20240813T183000
DTEND;TZID=America/New_York:20240813T203000
DTSTAMP:20260421T043659
CREATED:20240208T185316Z
LAST-MODIFIED:20241213T153559Z
UID:10001429-1723573800-1723581000@rebic.com
SUMMARY:Town of Waxhaw - Board of Commissioners Meeting
DESCRIPTION:
URL:https://rebic.com/event/town-of-waxhaw-board-of-commissioners-meeting-15/2024-08-13/
LOCATION:Waxhaw Police Department\, 3620 Providence Rd S\, Waxhaw\, NC\, 28173\, United States
CATEGORIES:Local Government,Policy and Law
ATTACH;FMTTYPE=image/jpeg:https://rebic.com/wp-content/uploads/2024/02/Waxhaw.jpg
END:VEVENT
BEGIN:VEVENT
DTSTART;TZID=America/New_York:20240723T183000
DTEND;TZID=America/New_York:20240723T203000
DTSTAMP:20260421T043659
CREATED:20240208T185433Z
LAST-MODIFIED:20241213T181854Z
UID:10001450-1721759400-1721766600@rebic.com
SUMMARY:Town of Waxhaw - Board of Commissioners Meeting
DESCRIPTION:
URL:https://rebic.com/event/town-of-waxhaw-board-of-commissioners-meeting-16/2024-07-23/
LOCATION:Waxhaw Police Department\, 3620 Providence Rd S\, Waxhaw\, NC\, 28173\, United States
CATEGORIES:Local Government,Policy and Law
ATTACH;FMTTYPE=image/jpeg:https://rebic.com/wp-content/uploads/2024/02/Waxhaw.jpg
END:VEVENT
BEGIN:VEVENT
DTSTART;TZID=America/New_York:20240709T183000
DTEND;TZID=America/New_York:20240709T203000
DTSTAMP:20260421T043659
CREATED:20240208T185316Z
LAST-MODIFIED:20241213T153559Z
UID:10001428-1720549800-1720557000@rebic.com
SUMMARY:Town of Waxhaw - Board of Commissioners Meeting
DESCRIPTION:
URL:https://rebic.com/event/town-of-waxhaw-board-of-commissioners-meeting-15/2024-07-09/
LOCATION:Waxhaw Police Department\, 3620 Providence Rd S\, Waxhaw\, NC\, 28173\, United States
CATEGORIES:Local Government,Policy and Law
ATTACH;FMTTYPE=image/jpeg:https://rebic.com/wp-content/uploads/2024/02/Waxhaw.jpg
END:VEVENT
BEGIN:VEVENT
DTSTART;TZID=America/New_York:20240625T183000
DTEND;TZID=America/New_York:20240625T203000
DTSTAMP:20260421T043659
CREATED:20240208T185433Z
LAST-MODIFIED:20241213T181854Z
UID:10001449-1719340200-1719347400@rebic.com
SUMMARY:Town of Waxhaw - Board of Commissioners Meeting
DESCRIPTION:
URL:https://rebic.com/event/town-of-waxhaw-board-of-commissioners-meeting-16/2024-06-25/
LOCATION:Waxhaw Police Department\, 3620 Providence Rd S\, Waxhaw\, NC\, 28173\, United States
CATEGORIES:Local Government,Policy and Law
ATTACH;FMTTYPE=image/jpeg:https://rebic.com/wp-content/uploads/2024/02/Waxhaw.jpg
END:VEVENT
BEGIN:VEVENT
DTSTART;TZID=America/New_York:20240611T183000
DTEND;TZID=America/New_York:20240611T203000
DTSTAMP:20260421T043659
CREATED:20240208T185316Z
LAST-MODIFIED:20241213T153559Z
UID:10001427-1718130600-1718137800@rebic.com
SUMMARY:Town of Waxhaw - Board of Commissioners Meeting
DESCRIPTION:
URL:https://rebic.com/event/town-of-waxhaw-board-of-commissioners-meeting-15/2024-06-11/
LOCATION:Waxhaw Police Department\, 3620 Providence Rd S\, Waxhaw\, NC\, 28173\, United States
CATEGORIES:Local Government,Policy and Law
ATTACH;FMTTYPE=image/jpeg:https://rebic.com/wp-content/uploads/2024/02/Waxhaw.jpg
END:VEVENT
BEGIN:VEVENT
DTSTART;TZID=America/New_York:20240528T183000
DTEND;TZID=America/New_York:20240528T203000
DTSTAMP:20260421T043659
CREATED:20240208T185433Z
LAST-MODIFIED:20241213T181854Z
UID:10001448-1716921000-1716928200@rebic.com
SUMMARY:Town of Waxhaw - Board of Commissioners Meeting
DESCRIPTION:
URL:https://rebic.com/event/town-of-waxhaw-board-of-commissioners-meeting-16/2024-05-28/
LOCATION:Waxhaw Police Department\, 3620 Providence Rd S\, Waxhaw\, NC\, 28173\, United States
CATEGORIES:Local Government,Policy and Law
ATTACH;FMTTYPE=image/jpeg:https://rebic.com/wp-content/uploads/2024/02/Waxhaw.jpg
END:VEVENT
BEGIN:VEVENT
DTSTART;TZID=America/New_York:20240514T183000
DTEND;TZID=America/New_York:20240514T203000
DTSTAMP:20260421T043659
CREATED:20240208T185316Z
LAST-MODIFIED:20241213T153559Z
UID:10001426-1715711400-1715718600@rebic.com
SUMMARY:Town of Waxhaw - Board of Commissioners Meeting
DESCRIPTION:
URL:https://rebic.com/event/town-of-waxhaw-board-of-commissioners-meeting-15/2024-05-14/
LOCATION:Waxhaw Police Department\, 3620 Providence Rd S\, Waxhaw\, NC\, 28173\, United States
CATEGORIES:Local Government,Policy and Law
ATTACH;FMTTYPE=image/jpeg:https://rebic.com/wp-content/uploads/2024/02/Waxhaw.jpg
END:VEVENT
BEGIN:VEVENT
DTSTART;TZID=America/New_York:20240423T183000
DTEND;TZID=America/New_York:20240423T203000
DTSTAMP:20260421T043659
CREATED:20240208T185433Z
LAST-MODIFIED:20241213T181854Z
UID:10001447-1713897000-1713904200@rebic.com
SUMMARY:Town of Waxhaw - Board of Commissioners Meeting
DESCRIPTION:
URL:https://rebic.com/event/town-of-waxhaw-board-of-commissioners-meeting-16/2024-04-23/
LOCATION:Waxhaw Police Department\, 3620 Providence Rd S\, Waxhaw\, NC\, 28173\, United States
CATEGORIES:Local Government,Policy and Law
ATTACH;FMTTYPE=image/jpeg:https://rebic.com/wp-content/uploads/2024/02/Waxhaw.jpg
END:VEVENT
BEGIN:VEVENT
DTSTART;TZID=America/New_York:20240409T183000
DTEND;TZID=America/New_York:20240409T203000
DTSTAMP:20260421T043659
CREATED:20240208T185316Z
LAST-MODIFIED:20241213T153559Z
UID:10001425-1712687400-1712694600@rebic.com
SUMMARY:Town of Waxhaw - Board of Commissioners Meeting
DESCRIPTION:
URL:https://rebic.com/event/town-of-waxhaw-board-of-commissioners-meeting-15/2024-04-09/
LOCATION:Waxhaw Police Department\, 3620 Providence Rd S\, Waxhaw\, NC\, 28173\, United States
CATEGORIES:Local Government,Policy and Law
ATTACH;FMTTYPE=image/jpeg:https://rebic.com/wp-content/uploads/2024/02/Waxhaw.jpg
END:VEVENT
BEGIN:VEVENT
DTSTART;TZID=America/New_York:20240326T183000
DTEND;TZID=America/New_York:20240326T203000
DTSTAMP:20260421T043659
CREATED:20240208T185433Z
LAST-MODIFIED:20241213T181854Z
UID:10001446-1711477800-1711485000@rebic.com
SUMMARY:Town of Waxhaw - Board of Commissioners Meeting
DESCRIPTION:
URL:https://rebic.com/event/town-of-waxhaw-board-of-commissioners-meeting-16/2024-03-26/
LOCATION:Waxhaw Police Department\, 3620 Providence Rd S\, Waxhaw\, NC\, 28173\, United States
CATEGORIES:Local Government,Policy and Law
ATTACH;FMTTYPE=image/jpeg:https://rebic.com/wp-content/uploads/2024/02/Waxhaw.jpg
END:VEVENT
BEGIN:VEVENT
DTSTART;TZID=America/New_York:20240312T183000
DTEND;TZID=America/New_York:20240312T203000
DTSTAMP:20260421T043659
CREATED:20240208T185316Z
LAST-MODIFIED:20241213T153559Z
UID:10001424-1710268200-1710275400@rebic.com
SUMMARY:Town of Waxhaw - Board of Commissioners Meeting
DESCRIPTION:
URL:https://rebic.com/event/town-of-waxhaw-board-of-commissioners-meeting-15/2024-03-12/
LOCATION:Waxhaw Police Department\, 3620 Providence Rd S\, Waxhaw\, NC\, 28173\, United States
CATEGORIES:Local Government,Policy and Law
ATTACH;FMTTYPE=image/jpeg:https://rebic.com/wp-content/uploads/2024/02/Waxhaw.jpg
END:VEVENT
BEGIN:VEVENT
DTSTART;TZID=America/New_York:20240227T183000
DTEND;TZID=America/New_York:20240227T203000
DTSTAMP:20260421T043659
CREATED:20240208T185433Z
LAST-MODIFIED:20241213T181854Z
UID:10001445-1709058600-1709065800@rebic.com
SUMMARY:Town of Waxhaw - Board of Commissioners Meeting
DESCRIPTION:
URL:https://rebic.com/event/town-of-waxhaw-board-of-commissioners-meeting-16/2024-02-27/
LOCATION:Waxhaw Police Department\, 3620 Providence Rd S\, Waxhaw\, NC\, 28173\, United States
CATEGORIES:Local Government,Policy and Law
ATTACH;FMTTYPE=image/jpeg:https://rebic.com/wp-content/uploads/2024/02/Waxhaw.jpg
END:VEVENT
BEGIN:VEVENT
DTSTART;TZID=America/New_York:20240213T183000
DTEND;TZID=America/New_York:20240213T203000
DTSTAMP:20260421T043659
CREATED:20240208T185316Z
LAST-MODIFIED:20241213T153559Z
UID:10001423-1707849000-1707856200@rebic.com
SUMMARY:Town of Waxhaw - Board of Commissioners Meeting
DESCRIPTION:
URL:https://rebic.com/event/town-of-waxhaw-board-of-commissioners-meeting-15/2024-02-13/
LOCATION:Waxhaw Police Department\, 3620 Providence Rd S\, Waxhaw\, NC\, 28173\, United States
CATEGORIES:Local Government,Policy and Law
ATTACH;FMTTYPE=image/jpeg:https://rebic.com/wp-content/uploads/2024/02/Waxhaw.jpg
END:VEVENT
BEGIN:VEVENT
DTSTART;TZID=America/New_York:20231219T183000
DTEND;TZID=America/New_York:20231219T203000
DTSTAMP:20260421T043659
CREATED:20230605T162333Z
LAST-MODIFIED:20230605T162333Z
UID:10000904-1703010600-1703017800@rebic.com
SUMMARY:Town of Waxhaw - Board of Commissioners Meeting
DESCRIPTION:
URL:https://rebic.com/event/town-of-waxhaw-board-of-commissioners-meeting-14/
LOCATION:Waxhaw Police Department\, 3620 Providence Rd S\, Waxhaw\, NC\, 28173\, United States
CATEGORIES:Local Government,Policy and Law
END:VEVENT
BEGIN:VEVENT
DTSTART;TZID=America/New_York:20231212T183000
DTEND;TZID=America/New_York:20231212T203000
DTSTAMP:20260421T043659
CREATED:20230605T162233Z
LAST-MODIFIED:20230605T162233Z
UID:10000903-1702405800-1702413000@rebic.com
SUMMARY:Town of Waxhaw - Board of Commissioners Meeting
DESCRIPTION:
URL:https://rebic.com/event/town-of-waxhaw-board-of-commissioners-meeting-13/
LOCATION:Waxhaw Police Department\, 3620 Providence Rd S\, Waxhaw\, NC\, 28173\, United States
CATEGORIES:Local Government,Policy and Law
END:VEVENT
END:VCALENDAR