BEGIN:VCALENDAR
VERSION:2.0
PRODID:-//REBIC - ECPv6.15.20//NONSGML v1.0//EN
CALSCALE:GREGORIAN
METHOD:PUBLISH
X-WR-CALNAME:REBIC
X-ORIGINAL-URL:https://rebic.com
X-WR-CALDESC:Events for REBIC
REFRESH-INTERVAL;VALUE=DURATION:PT1H
X-Robots-Tag:noindex
X-PUBLISHED-TTL:PT1H
BEGIN:VTIMEZONE
TZID:America/New_York
BEGIN:DAYLIGHT
TZOFFSETFROM:-0500
TZOFFSETTO:-0400
TZNAME:EDT
DTSTART:20250309T070000
END:DAYLIGHT
BEGIN:STANDARD
TZOFFSETFROM:-0400
TZOFFSETTO:-0500
TZNAME:EST
DTSTART:20251102T060000
END:STANDARD
BEGIN:DAYLIGHT
TZOFFSETFROM:-0500
TZOFFSETTO:-0400
TZNAME:EDT
DTSTART:20260308T070000
END:DAYLIGHT
BEGIN:STANDARD
TZOFFSETFROM:-0400
TZOFFSETTO:-0500
TZNAME:EST
DTSTART:20261101T060000
END:STANDARD
BEGIN:DAYLIGHT
TZOFFSETFROM:-0500
TZOFFSETTO:-0400
TZNAME:EDT
DTSTART:20270314T070000
END:DAYLIGHT
BEGIN:STANDARD
TZOFFSETFROM:-0400
TZOFFSETTO:-0500
TZNAME:EST
DTSTART:20271107T060000
END:STANDARD
BEGIN:DAYLIGHT
TZOFFSETFROM:-0500
TZOFFSETTO:-0400
TZNAME:EDT
DTSTART:20280312T070000
END:DAYLIGHT
BEGIN:STANDARD
TZOFFSETFROM:-0400
TZOFFSETTO:-0500
TZNAME:EST
DTSTART:20281105T060000
END:STANDARD
END:VTIMEZONE
BEGIN:VEVENT
DTSTART;TZID=America/New_York:20260427T190000
DTEND;TZID=America/New_York:20260427T210000
DTSTAMP:20260421T055224
CREATED:20260112T122151Z
LAST-MODIFIED:20260112T122151Z
UID:10002751-1777316400-1777323600@rebic.com
SUMMARY:Town of Stallings - Town Council Meeting
DESCRIPTION:
URL:https://rebic.com/event/town-of-stallings-town-council-meeting-8/2026-04-27/
LOCATION:Stallings Government Center\, 321 Stallings Road\, Stallings\, NC\, 28104\, United States
CATEGORIES:Local Government,Policy and Law
ATTACH;FMTTYPE=image/png:https://rebic.com/wp-content/uploads/2026/01/Stallings.png
END:VEVENT
BEGIN:VEVENT
DTSTART;TZID=America/New_York:20260511T190000
DTEND;TZID=America/New_York:20260511T210000
DTSTAMP:20260421T055224
CREATED:20260112T122013Z
LAST-MODIFIED:20260112T122013Z
UID:10002726-1778526000-1778533200@rebic.com
SUMMARY:Town of Stallings - Town Council Meeting
DESCRIPTION:
URL:https://rebic.com/event/town-of-stallings-town-council-meeting-7/2026-05-11/
LOCATION:Stallings Government Center\, 321 Stallings Road\, Stallings\, NC\, 28104\, United States
CATEGORIES:Local Government,Policy and Law
ATTACH;FMTTYPE=image/png:https://rebic.com/wp-content/uploads/2026/01/Stallings.png
END:VEVENT
BEGIN:VEVENT
DTSTART;TZID=America/New_York:20260525T190000
DTEND;TZID=America/New_York:20260525T210000
DTSTAMP:20260421T055224
CREATED:20260112T122151Z
LAST-MODIFIED:20260112T122151Z
UID:10002752-1779735600-1779742800@rebic.com
SUMMARY:Town of Stallings - Town Council Meeting
DESCRIPTION:
URL:https://rebic.com/event/town-of-stallings-town-council-meeting-8/2026-05-25/
LOCATION:Stallings Government Center\, 321 Stallings Road\, Stallings\, NC\, 28104\, United States
CATEGORIES:Local Government,Policy and Law
ATTACH;FMTTYPE=image/png:https://rebic.com/wp-content/uploads/2026/01/Stallings.png
END:VEVENT
BEGIN:VEVENT
DTSTART;TZID=America/New_York:20260608T190000
DTEND;TZID=America/New_York:20260608T210000
DTSTAMP:20260421T055224
CREATED:20260112T122013Z
LAST-MODIFIED:20260112T122013Z
UID:10002727-1780945200-1780952400@rebic.com
SUMMARY:Town of Stallings - Town Council Meeting
DESCRIPTION:
URL:https://rebic.com/event/town-of-stallings-town-council-meeting-7/2026-06-08/
LOCATION:Stallings Government Center\, 321 Stallings Road\, Stallings\, NC\, 28104\, United States
CATEGORIES:Local Government,Policy and Law
ATTACH;FMTTYPE=image/png:https://rebic.com/wp-content/uploads/2026/01/Stallings.png
END:VEVENT
BEGIN:VEVENT
DTSTART;TZID=America/New_York:20260622T190000
DTEND;TZID=America/New_York:20260622T210000
DTSTAMP:20260421T055224
CREATED:20260112T122151Z
LAST-MODIFIED:20260112T122151Z
UID:10002753-1782154800-1782162000@rebic.com
SUMMARY:Town of Stallings - Town Council Meeting
DESCRIPTION:
URL:https://rebic.com/event/town-of-stallings-town-council-meeting-8/2026-06-22/
LOCATION:Stallings Government Center\, 321 Stallings Road\, Stallings\, NC\, 28104\, United States
CATEGORIES:Local Government,Policy and Law
ATTACH;FMTTYPE=image/png:https://rebic.com/wp-content/uploads/2026/01/Stallings.png
END:VEVENT
BEGIN:VEVENT
DTSTART;TZID=America/New_York:20260713T190000
DTEND;TZID=America/New_York:20260713T210000
DTSTAMP:20260421T055224
CREATED:20260112T122013Z
LAST-MODIFIED:20260112T122013Z
UID:10002728-1783969200-1783976400@rebic.com
SUMMARY:Town of Stallings - Town Council Meeting
DESCRIPTION:
URL:https://rebic.com/event/town-of-stallings-town-council-meeting-7/2026-07-13/
LOCATION:Stallings Government Center\, 321 Stallings Road\, Stallings\, NC\, 28104\, United States
CATEGORIES:Local Government,Policy and Law
ATTACH;FMTTYPE=image/png:https://rebic.com/wp-content/uploads/2026/01/Stallings.png
END:VEVENT
BEGIN:VEVENT
DTSTART;TZID=America/New_York:20260727T190000
DTEND;TZID=America/New_York:20260727T210000
DTSTAMP:20260421T055224
CREATED:20260112T122151Z
LAST-MODIFIED:20260112T122151Z
UID:10002754-1785178800-1785186000@rebic.com
SUMMARY:Town of Stallings - Town Council Meeting
DESCRIPTION:
URL:https://rebic.com/event/town-of-stallings-town-council-meeting-8/2026-07-27/
LOCATION:Stallings Government Center\, 321 Stallings Road\, Stallings\, NC\, 28104\, United States
CATEGORIES:Local Government,Policy and Law
ATTACH;FMTTYPE=image/png:https://rebic.com/wp-content/uploads/2026/01/Stallings.png
END:VEVENT
BEGIN:VEVENT
DTSTART;TZID=America/New_York:20260810T190000
DTEND;TZID=America/New_York:20260810T210000
DTSTAMP:20260421T055224
CREATED:20260112T122013Z
LAST-MODIFIED:20260112T122013Z
UID:10002729-1786388400-1786395600@rebic.com
SUMMARY:Town of Stallings - Town Council Meeting
DESCRIPTION:
URL:https://rebic.com/event/town-of-stallings-town-council-meeting-7/2026-08-10/
LOCATION:Stallings Government Center\, 321 Stallings Road\, Stallings\, NC\, 28104\, United States
CATEGORIES:Local Government,Policy and Law
ATTACH;FMTTYPE=image/png:https://rebic.com/wp-content/uploads/2026/01/Stallings.png
END:VEVENT
BEGIN:VEVENT
DTSTART;TZID=America/New_York:20260824T190000
DTEND;TZID=America/New_York:20260824T210000
DTSTAMP:20260421T055224
CREATED:20260112T122151Z
LAST-MODIFIED:20260112T122151Z
UID:10002755-1787598000-1787605200@rebic.com
SUMMARY:Town of Stallings - Town Council Meeting
DESCRIPTION:
URL:https://rebic.com/event/town-of-stallings-town-council-meeting-8/2026-08-24/
LOCATION:Stallings Government Center\, 321 Stallings Road\, Stallings\, NC\, 28104\, United States
CATEGORIES:Local Government,Policy and Law
ATTACH;FMTTYPE=image/png:https://rebic.com/wp-content/uploads/2026/01/Stallings.png
END:VEVENT
BEGIN:VEVENT
DTSTART;TZID=America/New_York:20260914T190000
DTEND;TZID=America/New_York:20260914T210000
DTSTAMP:20260421T055224
CREATED:20260112T122013Z
LAST-MODIFIED:20260112T122013Z
UID:10002730-1789412400-1789419600@rebic.com
SUMMARY:Town of Stallings - Town Council Meeting
DESCRIPTION:
URL:https://rebic.com/event/town-of-stallings-town-council-meeting-7/2026-09-14/
LOCATION:Stallings Government Center\, 321 Stallings Road\, Stallings\, NC\, 28104\, United States
CATEGORIES:Local Government,Policy and Law
ATTACH;FMTTYPE=image/png:https://rebic.com/wp-content/uploads/2026/01/Stallings.png
END:VEVENT
BEGIN:VEVENT
DTSTART;TZID=America/New_York:20260928T190000
DTEND;TZID=America/New_York:20260928T210000
DTSTAMP:20260421T055224
CREATED:20260112T122151Z
LAST-MODIFIED:20260112T122151Z
UID:10002756-1790622000-1790629200@rebic.com
SUMMARY:Town of Stallings - Town Council Meeting
DESCRIPTION:
URL:https://rebic.com/event/town-of-stallings-town-council-meeting-8/2026-09-28/
LOCATION:Stallings Government Center\, 321 Stallings Road\, Stallings\, NC\, 28104\, United States
CATEGORIES:Local Government,Policy and Law
ATTACH;FMTTYPE=image/png:https://rebic.com/wp-content/uploads/2026/01/Stallings.png
END:VEVENT
BEGIN:VEVENT
DTSTART;TZID=America/New_York:20261012T190000
DTEND;TZID=America/New_York:20261012T210000
DTSTAMP:20260421T055224
CREATED:20260112T122013Z
LAST-MODIFIED:20260112T122013Z
UID:10002731-1791831600-1791838800@rebic.com
SUMMARY:Town of Stallings - Town Council Meeting
DESCRIPTION:
URL:https://rebic.com/event/town-of-stallings-town-council-meeting-7/2026-10-12/
LOCATION:Stallings Government Center\, 321 Stallings Road\, Stallings\, NC\, 28104\, United States
CATEGORIES:Local Government,Policy and Law
ATTACH;FMTTYPE=image/png:https://rebic.com/wp-content/uploads/2026/01/Stallings.png
END:VEVENT
BEGIN:VEVENT
DTSTART;TZID=America/New_York:20261026T190000
DTEND;TZID=America/New_York:20261026T210000
DTSTAMP:20260421T055224
CREATED:20260112T122151Z
LAST-MODIFIED:20260112T122151Z
UID:10002757-1793041200-1793048400@rebic.com
SUMMARY:Town of Stallings - Town Council Meeting
DESCRIPTION:
URL:https://rebic.com/event/town-of-stallings-town-council-meeting-8/2026-10-26/
LOCATION:Stallings Government Center\, 321 Stallings Road\, Stallings\, NC\, 28104\, United States
CATEGORIES:Local Government,Policy and Law
ATTACH;FMTTYPE=image/png:https://rebic.com/wp-content/uploads/2026/01/Stallings.png
END:VEVENT
BEGIN:VEVENT
DTSTART;TZID=America/New_York:20261109T190000
DTEND;TZID=America/New_York:20261109T210000
DTSTAMP:20260421T055224
CREATED:20260112T122013Z
LAST-MODIFIED:20260112T122013Z
UID:10002732-1794250800-1794258000@rebic.com
SUMMARY:Town of Stallings - Town Council Meeting
DESCRIPTION:
URL:https://rebic.com/event/town-of-stallings-town-council-meeting-7/2026-11-09/
LOCATION:Stallings Government Center\, 321 Stallings Road\, Stallings\, NC\, 28104\, United States
CATEGORIES:Local Government,Policy and Law
ATTACH;FMTTYPE=image/png:https://rebic.com/wp-content/uploads/2026/01/Stallings.png
END:VEVENT
BEGIN:VEVENT
DTSTART;TZID=America/New_York:20261123T190000
DTEND;TZID=America/New_York:20261123T210000
DTSTAMP:20260421T055224
CREATED:20260112T122151Z
LAST-MODIFIED:20260112T122151Z
UID:10002758-1795460400-1795467600@rebic.com
SUMMARY:Town of Stallings - Town Council Meeting
DESCRIPTION:
URL:https://rebic.com/event/town-of-stallings-town-council-meeting-8/2026-11-23/
LOCATION:Stallings Government Center\, 321 Stallings Road\, Stallings\, NC\, 28104\, United States
CATEGORIES:Local Government,Policy and Law
ATTACH;FMTTYPE=image/png:https://rebic.com/wp-content/uploads/2026/01/Stallings.png
END:VEVENT
BEGIN:VEVENT
DTSTART;TZID=America/New_York:20261214T190000
DTEND;TZID=America/New_York:20261214T210000
DTSTAMP:20260421T055224
CREATED:20260112T122013Z
LAST-MODIFIED:20260112T122013Z
UID:10002733-1797274800-1797282000@rebic.com
SUMMARY:Town of Stallings - Town Council Meeting
DESCRIPTION:
URL:https://rebic.com/event/town-of-stallings-town-council-meeting-7/2026-12-14/
LOCATION:Stallings Government Center\, 321 Stallings Road\, Stallings\, NC\, 28104\, United States
CATEGORIES:Local Government,Policy and Law
ATTACH;FMTTYPE=image/png:https://rebic.com/wp-content/uploads/2026/01/Stallings.png
END:VEVENT
BEGIN:VEVENT
DTSTART;TZID=America/New_York:20261228T190000
DTEND;TZID=America/New_York:20261228T210000
DTSTAMP:20260421T055224
CREATED:20260112T122151Z
LAST-MODIFIED:20260112T122151Z
UID:10002759-1798484400-1798491600@rebic.com
SUMMARY:Town of Stallings - Town Council Meeting
DESCRIPTION:
URL:https://rebic.com/event/town-of-stallings-town-council-meeting-8/2026-12-28/
LOCATION:Stallings Government Center\, 321 Stallings Road\, Stallings\, NC\, 28104\, United States
CATEGORIES:Local Government,Policy and Law
ATTACH;FMTTYPE=image/png:https://rebic.com/wp-content/uploads/2026/01/Stallings.png
END:VEVENT
BEGIN:VEVENT
DTSTART;TZID=America/New_York:20270111T190000
DTEND;TZID=America/New_York:20270111T210000
DTSTAMP:20260421T055224
CREATED:20260112T122013Z
LAST-MODIFIED:20260112T122013Z
UID:10002734-1799694000-1799701200@rebic.com
SUMMARY:Town of Stallings - Town Council Meeting
DESCRIPTION:
URL:https://rebic.com/event/town-of-stallings-town-council-meeting-7/2027-01-11/
LOCATION:Stallings Government Center\, 321 Stallings Road\, Stallings\, NC\, 28104\, United States
CATEGORIES:Local Government,Policy and Law
ATTACH;FMTTYPE=image/png:https://rebic.com/wp-content/uploads/2026/01/Stallings.png
END:VEVENT
BEGIN:VEVENT
DTSTART;TZID=America/New_York:20270125T190000
DTEND;TZID=America/New_York:20270125T210000
DTSTAMP:20260421T055224
CREATED:20260112T122151Z
LAST-MODIFIED:20260112T122151Z
UID:10002760-1800903600-1800910800@rebic.com
SUMMARY:Town of Stallings - Town Council Meeting
DESCRIPTION:
URL:https://rebic.com/event/town-of-stallings-town-council-meeting-8/2027-01-25/
LOCATION:Stallings Government Center\, 321 Stallings Road\, Stallings\, NC\, 28104\, United States
CATEGORIES:Local Government,Policy and Law
ATTACH;FMTTYPE=image/png:https://rebic.com/wp-content/uploads/2026/01/Stallings.png
END:VEVENT
END:VCALENDAR