BEGIN:VCALENDAR
VERSION:2.0
PRODID:-//REBIC - ECPv6.15.20//NONSGML v1.0//EN
CALSCALE:GREGORIAN
METHOD:PUBLISH
X-ORIGINAL-URL:https://rebic.com
X-WR-CALDESC:Events for REBIC
REFRESH-INTERVAL;VALUE=DURATION:PT1H
X-Robots-Tag:noindex
X-PUBLISHED-TTL:PT1H
BEGIN:VTIMEZONE
TZID:America/New_York
BEGIN:DAYLIGHT
TZOFFSETFROM:-0500
TZOFFSETTO:-0400
TZNAME:EDT
DTSTART:20220313T070000
END:DAYLIGHT
BEGIN:STANDARD
TZOFFSETFROM:-0400
TZOFFSETTO:-0500
TZNAME:EST
DTSTART:20221106T060000
END:STANDARD
BEGIN:DAYLIGHT
TZOFFSETFROM:-0500
TZOFFSETTO:-0400
TZNAME:EDT
DTSTART:20230312T070000
END:DAYLIGHT
BEGIN:STANDARD
TZOFFSETFROM:-0400
TZOFFSETTO:-0500
TZNAME:EST
DTSTART:20231105T060000
END:STANDARD
BEGIN:DAYLIGHT
TZOFFSETFROM:-0500
TZOFFSETTO:-0400
TZNAME:EDT
DTSTART:20240310T070000
END:DAYLIGHT
BEGIN:STANDARD
TZOFFSETFROM:-0400
TZOFFSETTO:-0500
TZNAME:EST
DTSTART:20241103T060000
END:STANDARD
BEGIN:DAYLIGHT
TZOFFSETFROM:-0500
TZOFFSETTO:-0400
TZNAME:EDT
DTSTART:20250309T070000
END:DAYLIGHT
BEGIN:STANDARD
TZOFFSETFROM:-0400
TZOFFSETTO:-0500
TZNAME:EST
DTSTART:20251102T060000
END:STANDARD
BEGIN:DAYLIGHT
TZOFFSETFROM:-0500
TZOFFSETTO:-0400
TZNAME:EDT
DTSTART:20260308T070000
END:DAYLIGHT
BEGIN:STANDARD
TZOFFSETFROM:-0400
TZOFFSETTO:-0500
TZNAME:EST
DTSTART:20261101T060000
END:STANDARD
BEGIN:DAYLIGHT
TZOFFSETFROM:-0500
TZOFFSETTO:-0400
TZNAME:EDT
DTSTART:20270314T070000
END:DAYLIGHT
BEGIN:STANDARD
TZOFFSETFROM:-0400
TZOFFSETTO:-0500
TZNAME:EST
DTSTART:20271107T060000
END:STANDARD
END:VTIMEZONE
BEGIN:VEVENT
DTSTART;TZID=America/New_York:20260413T190000
DTEND;TZID=America/New_York:20260413T210000
DTSTAMP:20260419T160840
CREATED:20260112T122013Z
LAST-MODIFIED:20260112T122013Z
UID:10002725-1776106800-1776114000@rebic.com
SUMMARY:Town of Stallings - Town Council Meeting
DESCRIPTION:
URL:https://rebic.com/event/town-of-stallings-town-council-meeting-7/2026-04-13/
LOCATION:Stallings Government Center\, 321 Stallings Road\, Stallings\, NC\, 28104\, United States
CATEGORIES:Local Government,Policy and Law
ATTACH;FMTTYPE=image/png:https://rebic.com/wp-content/uploads/2026/01/Stallings.png
END:VEVENT
BEGIN:VEVENT
DTSTART;TZID=America/New_York:20260323T190000
DTEND;TZID=America/New_York:20260323T210000
DTSTAMP:20260419T160840
CREATED:20260112T122151Z
LAST-MODIFIED:20260112T122151Z
UID:10002750-1774292400-1774299600@rebic.com
SUMMARY:Town of Stallings - Town Council Meeting
DESCRIPTION:
URL:https://rebic.com/event/town-of-stallings-town-council-meeting-8/2026-03-23/
LOCATION:Stallings Government Center\, 321 Stallings Road\, Stallings\, NC\, 28104\, United States
CATEGORIES:Local Government,Policy and Law
ATTACH;FMTTYPE=image/png:https://rebic.com/wp-content/uploads/2026/01/Stallings.png
END:VEVENT
BEGIN:VEVENT
DTSTART;TZID=America/New_York:20260309T190000
DTEND;TZID=America/New_York:20260309T210000
DTSTAMP:20260419T160840
CREATED:20260112T122013Z
LAST-MODIFIED:20260112T122013Z
UID:10002724-1773082800-1773090000@rebic.com
SUMMARY:Town of Stallings - Town Council Meeting
DESCRIPTION:
URL:https://rebic.com/event/town-of-stallings-town-council-meeting-7/2026-03-09/
LOCATION:Stallings Government Center\, 321 Stallings Road\, Stallings\, NC\, 28104\, United States
CATEGORIES:Local Government,Policy and Law
ATTACH;FMTTYPE=image/png:https://rebic.com/wp-content/uploads/2026/01/Stallings.png
END:VEVENT
BEGIN:VEVENT
DTSTART;TZID=America/New_York:20260223T190000
DTEND;TZID=America/New_York:20260223T210000
DTSTAMP:20260419T160840
CREATED:20260112T122151Z
LAST-MODIFIED:20260112T122151Z
UID:10002749-1771873200-1771880400@rebic.com
SUMMARY:Town of Stallings - Town Council Meeting
DESCRIPTION:
URL:https://rebic.com/event/town-of-stallings-town-council-meeting-8/2026-02-23/
LOCATION:Stallings Government Center\, 321 Stallings Road\, Stallings\, NC\, 28104\, United States
CATEGORIES:Local Government,Policy and Law
ATTACH;FMTTYPE=image/png:https://rebic.com/wp-content/uploads/2026/01/Stallings.png
END:VEVENT
BEGIN:VEVENT
DTSTART;TZID=America/New_York:20260209T190000
DTEND;TZID=America/New_York:20260209T210000
DTSTAMP:20260419T160840
CREATED:20260112T122013Z
LAST-MODIFIED:20260112T122013Z
UID:10002723-1770663600-1770670800@rebic.com
SUMMARY:Town of Stallings - Town Council Meeting
DESCRIPTION:
URL:https://rebic.com/event/town-of-stallings-town-council-meeting-7/2026-02-09/
LOCATION:Stallings Government Center\, 321 Stallings Road\, Stallings\, NC\, 28104\, United States
CATEGORIES:Local Government,Policy and Law
ATTACH;FMTTYPE=image/png:https://rebic.com/wp-content/uploads/2026/01/Stallings.png
END:VEVENT
BEGIN:VEVENT
DTSTART;TZID=America/New_York:20260126T190000
DTEND;TZID=America/New_York:20260126T210000
DTSTAMP:20260419T160840
CREATED:20260112T122151Z
LAST-MODIFIED:20260112T122151Z
UID:10002748-1769454000-1769461200@rebic.com
SUMMARY:Town of Stallings - Town Council Meeting
DESCRIPTION:
URL:https://rebic.com/event/town-of-stallings-town-council-meeting-8/2026-01-26/
LOCATION:Stallings Government Center\, 321 Stallings Road\, Stallings\, NC\, 28104\, United States
CATEGORIES:Local Government,Policy and Law
ATTACH;FMTTYPE=image/png:https://rebic.com/wp-content/uploads/2026/01/Stallings.png
END:VEVENT
BEGIN:VEVENT
DTSTART;TZID=America/New_York:20260112T190000
DTEND;TZID=America/New_York:20260112T210000
DTSTAMP:20260419T160840
CREATED:20260112T122013Z
LAST-MODIFIED:20260112T122013Z
UID:10002722-1768244400-1768251600@rebic.com
SUMMARY:Town of Stallings - Town Council Meeting
DESCRIPTION:
URL:https://rebic.com/event/town-of-stallings-town-council-meeting-7/2026-01-12/
LOCATION:Stallings Government Center\, 321 Stallings Road\, Stallings\, NC\, 28104\, United States
CATEGORIES:Local Government,Policy and Law
ATTACH;FMTTYPE=image/png:https://rebic.com/wp-content/uploads/2026/01/Stallings.png
END:VEVENT
BEGIN:VEVENT
DTSTART;TZID=America/New_York:20230925T190000
DTEND;TZID=America/New_York:20230925T210000
DTSTAMP:20260419T160840
CREATED:20230530T201100Z
LAST-MODIFIED:20230530T201100Z
UID:10000890-1695668400-1695675600@rebic.com
SUMMARY:Town of Stallings - Town Council Meeting
DESCRIPTION:
URL:https://rebic.com/event/town-of-stallings-town-council-meeting-6/
LOCATION:Stallings Government Center\, 321 Stallings Road\, Stallings\, NC\, 28104\, United States
CATEGORIES:Local Government,Policy and Law
END:VEVENT
BEGIN:VEVENT
DTSTART;TZID=America/New_York:20230911T190000
DTEND;TZID=America/New_York:20230911T210000
DTSTAMP:20260419T160840
CREATED:20230530T200934Z
LAST-MODIFIED:20230530T200934Z
UID:10000889-1694458800-1694466000@rebic.com
SUMMARY:Town of Stallings - Town Council Meeting
DESCRIPTION:
URL:https://rebic.com/event/town-of-stallings-town-council-meeting-5/
LOCATION:Stallings Government Center\, 321 Stallings Road\, Stallings\, NC\, 28104\, United States
CATEGORIES:Local Government,Policy and Law
END:VEVENT
BEGIN:VEVENT
DTSTART;TZID=America/New_York:20230814T190000
DTEND;TZID=America/New_York:20230814T210000
DTSTAMP:20260419T160840
CREATED:20230530T200754Z
LAST-MODIFIED:20230530T200754Z
UID:10000888-1692039600-1692046800@rebic.com
SUMMARY:Town of Stallings - Town Council Meeting
DESCRIPTION:
URL:https://rebic.com/event/town-of-stallings-town-council-meeting-4/
LOCATION:Stallings Government Center\, 321 Stallings Road\, Stallings\, NC\, 28104\, United States
CATEGORIES:Local Government,Policy and Law
END:VEVENT
BEGIN:VEVENT
DTSTART;TZID=America/New_York:20230710T190000
DTEND;TZID=America/New_York:20230710T210000
DTSTAMP:20260419T160840
CREATED:20230530T200622Z
LAST-MODIFIED:20230530T200622Z
UID:10000887-1689015600-1689022800@rebic.com
SUMMARY:Town of Stallings - Town Council Meeting
DESCRIPTION:
URL:https://rebic.com/event/town-of-stallings-town-council-meeting-3/
LOCATION:Stallings Government Center\, 321 Stallings Road\, Stallings\, NC\, 28104\, United States
CATEGORIES:Local Government,Policy and Law
END:VEVENT
BEGIN:VEVENT
DTSTART;TZID=America/New_York:20230626T190000
DTEND;TZID=America/New_York:20230626T210000
DTSTAMP:20260419T160840
CREATED:20230530T200427Z
LAST-MODIFIED:20230530T200427Z
UID:10000886-1687806000-1687813200@rebic.com
SUMMARY:Town of Stallings - Town Council Meeting
DESCRIPTION:
URL:https://rebic.com/event/town-of-stallings-town-council-meeting-2/
LOCATION:Stallings Government Center\, 321 Stallings Road\, Stallings\, NC\, 28104\, United States
CATEGORIES:Local Government,Policy and Law
END:VEVENT
BEGIN:VEVENT
DTSTART;TZID=America/New_York:20230612T190000
DTEND;TZID=America/New_York:20230612T210000
DTSTAMP:20260419T160840
CREATED:20230530T195858Z
LAST-MODIFIED:20230530T195858Z
UID:10000885-1686596400-1686603600@rebic.com
SUMMARY:Town of Stallings - Town Council Meeting
DESCRIPTION:
URL:https://rebic.com/event/town-of-stallings-town-council-meeting/
LOCATION:Stallings Government Center\, 321 Stallings Road\, Stallings\, NC\, 28104\, United States
CATEGORIES:Local Government,Policy and Law
END:VEVENT
END:VCALENDAR