BEGIN:VCALENDAR
VERSION:2.0
PRODID:-//REBIC - ECPv6.15.20//NONSGML v1.0//EN
CALSCALE:GREGORIAN
METHOD:PUBLISH
X-ORIGINAL-URL:https://rebic.com
X-WR-CALDESC:Events for REBIC
REFRESH-INTERVAL;VALUE=DURATION:PT1H
X-Robots-Tag:noindex
X-PUBLISHED-TTL:PT1H
BEGIN:VTIMEZONE
TZID:America/New_York
BEGIN:DAYLIGHT
TZOFFSETFROM:-0500
TZOFFSETTO:-0400
TZNAME:EDT
DTSTART:20220313T070000
END:DAYLIGHT
BEGIN:STANDARD
TZOFFSETFROM:-0400
TZOFFSETTO:-0500
TZNAME:EST
DTSTART:20221106T060000
END:STANDARD
BEGIN:DAYLIGHT
TZOFFSETFROM:-0500
TZOFFSETTO:-0400
TZNAME:EDT
DTSTART:20230312T070000
END:DAYLIGHT
BEGIN:STANDARD
TZOFFSETFROM:-0400
TZOFFSETTO:-0500
TZNAME:EST
DTSTART:20231105T060000
END:STANDARD
BEGIN:DAYLIGHT
TZOFFSETFROM:-0500
TZOFFSETTO:-0400
TZNAME:EDT
DTSTART:20240310T070000
END:DAYLIGHT
BEGIN:STANDARD
TZOFFSETFROM:-0400
TZOFFSETTO:-0500
TZNAME:EST
DTSTART:20241103T060000
END:STANDARD
BEGIN:DAYLIGHT
TZOFFSETFROM:-0500
TZOFFSETTO:-0400
TZNAME:EDT
DTSTART:20250309T070000
END:DAYLIGHT
BEGIN:STANDARD
TZOFFSETFROM:-0400
TZOFFSETTO:-0500
TZNAME:EST
DTSTART:20251102T060000
END:STANDARD
END:VTIMEZONE
BEGIN:VEVENT
DTSTART;TZID=America/New_York:20240408T190000
DTEND;TZID=America/New_York:20240408T210000
DTSTAMP:20260419T081749
CREATED:20240208T173026Z
LAST-MODIFIED:20241213T153030Z
UID:10001236-1712602800-1712610000@rebic.com
SUMMARY:Town of Matthews - Board of Commissioners Meeting
DESCRIPTION:
URL:https://rebic.com/event/town-of-matthews-board-of-commissioners-meeting-18/2024-04-08/
LOCATION:Matthews Town Hall\, 232 Matthews Station Street\, Matthews\, NC\, 28105
CATEGORIES:Local Government,Policy and Law
ATTACH;FMTTYPE=image/png:https://rebic.com/wp-content/uploads/2024/02/Matthews.png
END:VEVENT
BEGIN:VEVENT
DTSTART;TZID=America/New_York:20240325T190000
DTEND;TZID=America/New_York:20240325T210000
DTSTAMP:20260419T081749
CREATED:20240208T173301Z
LAST-MODIFIED:20241213T181742Z
UID:10001257-1711393200-1711400400@rebic.com
SUMMARY:Town of Matthews - Board of Commissioners Meeting
DESCRIPTION:
URL:https://rebic.com/event/town-of-matthews-board-of-commissioners-meeting-19/2024-03-25/
LOCATION:Matthews Town Hall\, 232 Matthews Station Street\, Matthews\, NC\, 28105
CATEGORIES:Local Government,Policy and Law
ATTACH;FMTTYPE=image/png:https://rebic.com/wp-content/uploads/2024/02/Matthews.png
END:VEVENT
BEGIN:VEVENT
DTSTART;TZID=America/New_York:20240311T190000
DTEND;TZID=America/New_York:20240311T210000
DTSTAMP:20260419T081749
CREATED:20240208T173026Z
LAST-MODIFIED:20241213T153030Z
UID:10001235-1710183600-1710190800@rebic.com
SUMMARY:Town of Matthews - Board of Commissioners Meeting
DESCRIPTION:
URL:https://rebic.com/event/town-of-matthews-board-of-commissioners-meeting-18/2024-03-11/
LOCATION:Matthews Town Hall\, 232 Matthews Station Street\, Matthews\, NC\, 28105
CATEGORIES:Local Government,Policy and Law
ATTACH;FMTTYPE=image/png:https://rebic.com/wp-content/uploads/2024/02/Matthews.png
END:VEVENT
BEGIN:VEVENT
DTSTART;TZID=America/New_York:20240226T190000
DTEND;TZID=America/New_York:20240226T210000
DTSTAMP:20260419T081749
CREATED:20240208T173301Z
LAST-MODIFIED:20241213T181742Z
UID:10001256-1708974000-1708981200@rebic.com
SUMMARY:Town of Matthews - Board of Commissioners Meeting
DESCRIPTION:
URL:https://rebic.com/event/town-of-matthews-board-of-commissioners-meeting-19/2024-02-26/
LOCATION:Matthews Town Hall\, 232 Matthews Station Street\, Matthews\, NC\, 28105
CATEGORIES:Local Government,Policy and Law
ATTACH;FMTTYPE=image/png:https://rebic.com/wp-content/uploads/2024/02/Matthews.png
END:VEVENT
BEGIN:VEVENT
DTSTART;TZID=America/New_York:20240212T190000
DTEND;TZID=America/New_York:20240212T210000
DTSTAMP:20260419T081749
CREATED:20240208T173026Z
LAST-MODIFIED:20241213T153030Z
UID:10001234-1707764400-1707771600@rebic.com
SUMMARY:Town of Matthews - Board of Commissioners Meeting
DESCRIPTION:
URL:https://rebic.com/event/town-of-matthews-board-of-commissioners-meeting-18/2024-02-12/
LOCATION:Matthews Town Hall\, 232 Matthews Station Street\, Matthews\, NC\, 28105
CATEGORIES:Local Government,Policy and Law
ATTACH;FMTTYPE=image/png:https://rebic.com/wp-content/uploads/2024/02/Matthews.png
END:VEVENT
BEGIN:VEVENT
DTSTART;TZID=America/New_York:20240122T190000
DTEND;TZID=America/New_York:20240122T210000
DTSTAMP:20260419T081749
CREATED:20230427T171238Z
LAST-MODIFIED:20230427T171238Z
UID:10000710-1705950000-1705957200@rebic.com
SUMMARY:Town of Matthews - Board of Commissioners Meeting
DESCRIPTION:
URL:https://rebic.com/event/town-of-matthews-board-of-commissioners-meeting-17/
LOCATION:Matthews Town Hall\, 232 Matthews Station Street\, Matthews\, NC\, 28105
END:VEVENT
BEGIN:VEVENT
DTSTART;TZID=America/New_York:20240108T190000
DTEND;TZID=America/New_York:20240108T210000
DTSTAMP:20260419T081749
CREATED:20230427T170912Z
LAST-MODIFIED:20230427T170912Z
UID:10000709-1704740400-1704747600@rebic.com
SUMMARY:Town of Matthews - Board of Commissioners Meeting
DESCRIPTION:
URL:https://rebic.com/event/town-of-matthews-board-of-commissioners-meeting-16/
LOCATION:Matthews Town Hall\, 232 Matthews Station Street\, Matthews\, NC\, 28105
END:VEVENT
BEGIN:VEVENT
DTSTART;TZID=America/New_York:20231211T190000
DTEND;TZID=America/New_York:20231211T210000
DTSTAMP:20260419T081749
CREATED:20230427T170739Z
LAST-MODIFIED:20230427T170739Z
UID:10000708-1702321200-1702328400@rebic.com
SUMMARY:Town of Matthews - Board of Commissioners Meeting
DESCRIPTION:
URL:https://rebic.com/event/town-of-matthews-board-of-commissioners-meeting-15/
LOCATION:Matthews Town Hall\, 232 Matthews Station Street\, Matthews\, NC\, 28105
END:VEVENT
BEGIN:VEVENT
DTSTART;TZID=America/New_York:20231127T080000
DTEND;TZID=America/New_York:20231127T170000
DTSTAMP:20260419T081749
CREATED:20230427T170347Z
LAST-MODIFIED:20230427T170347Z
UID:10000707-1701072000-1701104400@rebic.com
SUMMARY:Town of Matthews - Board of Commissioners Meeting
DESCRIPTION:
URL:https://rebic.com/event/town-of-matthews-board-of-commissioners-meeting-14/
LOCATION:Matthews Town Hall\, 232 Matthews Station Street\, Matthews\, NC\, 28105
END:VEVENT
BEGIN:VEVENT
DTSTART;TZID=America/New_York:20231113T190000
DTEND;TZID=America/New_York:20231113T210000
DTSTAMP:20260419T081749
CREATED:20230427T170128Z
LAST-MODIFIED:20230427T170128Z
UID:10000706-1699902000-1699909200@rebic.com
SUMMARY:Town of Matthews - Board of Commissioners Meeting
DESCRIPTION:
URL:https://rebic.com/event/town-of-matthews-board-of-commissioners-meeting-13/
LOCATION:Matthews Town Hall\, 232 Matthews Station Street\, Matthews\, NC\, 28105
END:VEVENT
BEGIN:VEVENT
DTSTART;TZID=America/New_York:20231023T190000
DTEND;TZID=America/New_York:20231023T210000
DTSTAMP:20260419T081749
CREATED:20230427T165818Z
LAST-MODIFIED:20230427T165818Z
UID:10000705-1698087600-1698094800@rebic.com
SUMMARY:Town of Matthews - Board of Commissioners Meeting
DESCRIPTION:
URL:https://rebic.com/event/town-of-matthews-board-of-commissioners-meeting-12/
LOCATION:Matthews Town Hall\, 232 Matthews Station Street\, Matthews\, NC\, 28105
END:VEVENT
BEGIN:VEVENT
DTSTART;TZID=America/New_York:20231009T190000
DTEND;TZID=America/New_York:20231009T210000
DTSTAMP:20260419T081749
CREATED:20230427T165323Z
LAST-MODIFIED:20230427T165323Z
UID:10000704-1696878000-1696885200@rebic.com
SUMMARY:Town of Matthews - Board of Commissioners Meeting
DESCRIPTION:
URL:https://rebic.com/event/town-of-matthews-board-of-commissioners-meeting-11/
LOCATION:Matthews Town Hall\, 232 Matthews Station Street\, Matthews\, NC\, 28105
END:VEVENT
BEGIN:VEVENT
DTSTART;TZID=America/New_York:20230925T080000
DTEND;TZID=America/New_York:20230925T170000
DTSTAMP:20260419T081749
CREATED:20230427T165145Z
LAST-MODIFIED:20230427T165145Z
UID:10000703-1695628800-1695661200@rebic.com
SUMMARY:Town of Matthews - Board of Commissioners Meeting
DESCRIPTION:
URL:https://rebic.com/event/town-of-matthews-board-of-commissioners-meeting-10/
LOCATION:Matthews Town Hall\, 232 Matthews Station Street\, Matthews\, NC\, 28105
END:VEVENT
BEGIN:VEVENT
DTSTART;TZID=America/New_York:20230911T190000
DTEND;TZID=America/New_York:20230911T210000
DTSTAMP:20260419T081749
CREATED:20230427T164901Z
LAST-MODIFIED:20230427T164901Z
UID:10000702-1694458800-1694466000@rebic.com
SUMMARY:Town of Matthews - Board of Commissioners Meeting
DESCRIPTION:
URL:https://rebic.com/event/town-of-matthews-board-of-commissioners-meeting-9/
LOCATION:Matthews Town Hall\, 232 Matthews Station Street\, Matthews\, NC\, 28105
END:VEVENT
BEGIN:VEVENT
DTSTART;TZID=America/New_York:20230828T190000
DTEND;TZID=America/New_York:20230828T210000
DTSTAMP:20260419T081749
CREATED:20230427T163632Z
LAST-MODIFIED:20230427T163632Z
UID:10000701-1693249200-1693256400@rebic.com
SUMMARY:Town of Matthews - Board of Commissioners Meeting
DESCRIPTION:
URL:https://rebic.com/event/town-of-matthews-board-of-commissioners-meeting-8/
LOCATION:Matthews Town Hall\, 232 Matthews Station Street\, Matthews\, NC\, 28105
END:VEVENT
BEGIN:VEVENT
DTSTART;TZID=America/New_York:20230814T190000
DTEND;TZID=America/New_York:20230814T210000
DTSTAMP:20260419T081749
CREATED:20230427T163143Z
LAST-MODIFIED:20230427T163143Z
UID:10000700-1692039600-1692046800@rebic.com
SUMMARY:Town of Matthews - Board of Commissioners Meeting
DESCRIPTION:
URL:https://rebic.com/event/town-of-matthews-board-of-commissioners-meeting-7/
LOCATION:Matthews Town Hall\, 232 Matthews Station Street\, Matthews\, NC\, 28105
END:VEVENT
BEGIN:VEVENT
DTSTART;TZID=America/New_York:20230724T190000
DTEND;TZID=America/New_York:20230724T210000
DTSTAMP:20260419T081749
CREATED:20230427T162931Z
LAST-MODIFIED:20230427T162931Z
UID:10000699-1690225200-1690232400@rebic.com
SUMMARY:Town of Matthews - Board of Commissioners Meeting
DESCRIPTION:
URL:https://rebic.com/event/town-of-matthews-board-of-commissioners-meeting-6/
LOCATION:Matthews Town Hall\, 232 Matthews Station Street\, Matthews\, NC\, 28105
END:VEVENT
BEGIN:VEVENT
DTSTART;TZID=America/New_York:20230710T190000
DTEND;TZID=America/New_York:20230710T210000
DTSTAMP:20260419T081749
CREATED:20230427T162740Z
LAST-MODIFIED:20230427T162740Z
UID:10000698-1689015600-1689022800@rebic.com
SUMMARY:Town of Matthews - Board of Commissioners Meeting
DESCRIPTION:
URL:https://rebic.com/event/town-of-matthews-board-of-commissioners-meeting-5/
LOCATION:Matthews Town Hall\, 232 Matthews Station Street\, Matthews\, NC\, 28105
END:VEVENT
BEGIN:VEVENT
DTSTART;TZID=America/New_York:20230626T190000
DTEND;TZID=America/New_York:20230626T210000
DTSTAMP:20260419T081749
CREATED:20230427T162611Z
LAST-MODIFIED:20230427T162611Z
UID:10000697-1687806000-1687813200@rebic.com
SUMMARY:Town of Matthews - Board of Commissioners Meeting
DESCRIPTION:
URL:https://rebic.com/event/town-of-matthews-board-of-commissioners-meeting-4/
LOCATION:Matthews Town Hall\, 232 Matthews Station Street\, Matthews\, NC\, 28105
END:VEVENT
BEGIN:VEVENT
DTSTART;TZID=America/New_York:20230612T190000
DTEND;TZID=America/New_York:20230612T210000
DTSTAMP:20260419T081749
CREATED:20230427T162133Z
LAST-MODIFIED:20230427T162133Z
UID:10000696-1686596400-1686603600@rebic.com
SUMMARY:Town of Matthews - Board of Commissioners Meeting
DESCRIPTION:
URL:https://rebic.com/event/town-of-matthews-board-of-commissioners-meeting-3/
LOCATION:Matthews Town Hall\, 232 Matthews Station Street\, Matthews\, NC\, 28105
END:VEVENT
BEGIN:VEVENT
DTSTART;TZID=America/New_York:20230522T190000
DTEND;TZID=America/New_York:20230522T210000
DTSTAMP:20260419T081749
CREATED:20230425T194743Z
LAST-MODIFIED:20230425T194743Z
UID:10000695-1684782000-1684789200@rebic.com
SUMMARY:Town of Matthews - Board of Commissioners Meeting
DESCRIPTION:
URL:https://rebic.com/event/town-of-matthews-board-of-commissioners-meeting-2/
LOCATION:Matthews Town Hall\, 232 Matthews Station Street\, Matthews\, NC\, 28105
END:VEVENT
BEGIN:VEVENT
DTSTART;TZID=America/New_York:20230508T190000
DTEND;TZID=America/New_York:20230508T210000
DTSTAMP:20260419T081749
CREATED:20230425T194349Z
LAST-MODIFIED:20230425T195011Z
UID:10000694-1683572400-1683579600@rebic.com
SUMMARY:Town of Matthews - Board of Commissioners Meeting
DESCRIPTION:
URL:https://rebic.com/event/town-of-matthews-board-of-commissioners-meeting/
LOCATION:Matthews Town Hall\, 232 Matthews Station Street\, Matthews\, NC\, 28105
END:VEVENT
END:VCALENDAR