BEGIN:VCALENDAR
VERSION:2.0
PRODID:-//REBIC - ECPv6.15.20//NONSGML v1.0//EN
CALSCALE:GREGORIAN
METHOD:PUBLISH
X-ORIGINAL-URL:https://rebic.com
X-WR-CALDESC:Events for REBIC
REFRESH-INTERVAL;VALUE=DURATION:PT1H
X-Robots-Tag:noindex
X-PUBLISHED-TTL:PT1H
BEGIN:VTIMEZONE
TZID:America/New_York
BEGIN:DAYLIGHT
TZOFFSETFROM:-0500
TZOFFSETTO:-0400
TZNAME:EDT
DTSTART:20210314T070000
END:DAYLIGHT
BEGIN:STANDARD
TZOFFSETFROM:-0400
TZOFFSETTO:-0500
TZNAME:EST
DTSTART:20211107T060000
END:STANDARD
BEGIN:DAYLIGHT
TZOFFSETFROM:-0500
TZOFFSETTO:-0400
TZNAME:EDT
DTSTART:20220313T070000
END:DAYLIGHT
BEGIN:STANDARD
TZOFFSETFROM:-0400
TZOFFSETTO:-0500
TZNAME:EST
DTSTART:20221106T060000
END:STANDARD
BEGIN:DAYLIGHT
TZOFFSETFROM:-0500
TZOFFSETTO:-0400
TZNAME:EDT
DTSTART:20230312T070000
END:DAYLIGHT
BEGIN:STANDARD
TZOFFSETFROM:-0400
TZOFFSETTO:-0500
TZNAME:EST
DTSTART:20231105T060000
END:STANDARD
END:VTIMEZONE
BEGIN:VEVENT
DTSTART;TZID=America/New_York:20221020T180000
DTEND;TZID=America/New_York:20221020T180000
DTSTAMP:20260419T125515
CREATED:20220627T044611Z
LAST-MODIFIED:20220908T202644Z
UID:10000304-1666288800-1666288800@rebic.com
SUMMARY:Statesville Iredell County Zoning Board of Adjustment
DESCRIPTION:
URL:https://rebic.com/event/iredell-county-zoning-board-of-adjustment-2022-10-20/
LOCATION:Iredell County Commissioners Meeting Room Statesville\, 200 S Center St\, Statesville\, NC\, 28677\, United States
CATEGORIES:Local Government
END:VEVENT
BEGIN:VEVENT
DTSTART;TZID=America/New_York:20221018T170000
DTEND;TZID=America/New_York:20221018T170000
DTSTAMP:20260419T125515
CREATED:20220627T045031Z
LAST-MODIFIED:20220908T202814Z
UID:10000315-1666112400-1666112400@rebic.com
SUMMARY:Statesville Iredell County Board of Commissioners
DESCRIPTION:Meetings 5 PM (Pre-Agenda Session)\nMeetings 7 PM (Regular Session)
URL:https://rebic.com/event/iredell-county-board-of-commissioners-2022-10-18/
LOCATION:Iredell County Commissioners Meeting Room Statesville\, 200 S Center St\, Statesville\, NC\, 28677\, United States
CATEGORIES:Local Government
END:VEVENT
BEGIN:VEVENT
DTSTART;TZID=America/New_York:20221005T190000
DTEND;TZID=America/New_York:20221005T190000
DTSTAMP:20260419T125515
CREATED:20220627T044232Z
LAST-MODIFIED:20220908T203151Z
UID:10000297-1664996400-1664996400@rebic.com
SUMMARY:Statesville Planning Board
DESCRIPTION:
URL:https://rebic.com/event/planning-board-2022-10-05/
LOCATION:Iredell County Commissioners Meeting Room Statesville\, 200 S Center St\, Statesville\, NC\, 28677\, United States
CATEGORIES:Local Government
END:VEVENT
BEGIN:VEVENT
DTSTART;TZID=America/New_York:20221004T170000
DTEND;TZID=America/New_York:20221004T170000
DTSTAMP:20260419T125515
CREATED:20220627T045031Z
LAST-MODIFIED:20220908T203216Z
UID:10000314-1664902800-1664902800@rebic.com
SUMMARY:Statesville Iredell County Board of Commissioners
DESCRIPTION:Meetings 5 PM (Pre-Agenda Session)\nMeetings 7 PM (Regular Session)
URL:https://rebic.com/event/iredell-county-board-of-commissioners-2022-10-04/
LOCATION:Iredell County Commissioners Meeting Room Statesville\, 200 S Center St\, Statesville\, NC\, 28677\, United States
CATEGORIES:Local Government
END:VEVENT
BEGIN:VEVENT
DTSTART;TZID=America/New_York:20220920T170000
DTEND;TZID=America/New_York:20220920T170000
DTSTAMP:20260419T125515
CREATED:20220627T045031Z
LAST-MODIFIED:20220908T201056Z
UID:10000313-1663693200-1663693200@rebic.com
SUMMARY:Statesville Iredell County Board of Commissioners
DESCRIPTION:Meetings 5 PM (Pre-Agenda Session)\nMeetings 7 PM (Regular Session)
URL:https://rebic.com/event/iredell-county-board-of-commissioners-2022-09-20/
LOCATION:Iredell County Commissioners Meeting Room Statesville\, 200 S Center St\, Statesville\, NC\, 28677\, United States
CATEGORIES:Local Government
END:VEVENT
BEGIN:VEVENT
DTSTART;TZID=America/New_York:20220915T180000
DTEND;TZID=America/New_York:20220915T180000
DTSTAMP:20260419T125515
CREATED:20220627T044611Z
LAST-MODIFIED:20220908T200409Z
UID:10000303-1663264800-1663264800@rebic.com
SUMMARY:Statesville Iredell County Zoning Board of Adjustment
DESCRIPTION:
URL:https://rebic.com/event/iredell-county-zoning-board-of-adjustment-2022-09-15/
LOCATION:Iredell County Commissioners Meeting Room Statesville\, 200 S Center St\, Statesville\, NC\, 28677\, United States
CATEGORIES:Local Government
END:VEVENT
BEGIN:VEVENT
DTSTART;TZID=America/New_York:20220907T220000
DTEND;TZID=America/New_York:20220907T220000
DTSTAMP:20260419T125515
CREATED:20220627T044232Z
LAST-MODIFIED:20220629T183419Z
UID:10000296-1662588000-1662588000@rebic.com
SUMMARY:Statesville Planning Board
DESCRIPTION:
URL:https://rebic.com/event/planning-board-2022-09-07/
LOCATION:Iredell County Commissioners Meeting Room Statesville\, 200 S Center St\, Statesville\, NC\, 28677\, United States
CATEGORIES:Local Government
END:VEVENT
BEGIN:VEVENT
DTSTART;TZID=America/New_York:20220906T200000
DTEND;TZID=America/New_York:20220906T200000
DTSTAMP:20260419T125515
CREATED:20220627T045031Z
LAST-MODIFIED:20220629T175806Z
UID:10000312-1662494400-1662494400@rebic.com
SUMMARY:Statesville Iredell County Board of Commissioners
DESCRIPTION:Meetings 5 PM (Pre-Agenda Session)\nMeetings 7 PM (Regular Session)
URL:https://rebic.com/event/iredell-county-board-of-commissioners-2022-09-06/
LOCATION:Iredell County Commissioners Meeting Room Statesville\, 200 S Center St\, Statesville\, NC\, 28677\, United States
CATEGORIES:Local Government
END:VEVENT
BEGIN:VEVENT
DTSTART;TZID=America/New_York:20220818T210000
DTEND;TZID=America/New_York:20220818T210000
DTSTAMP:20260419T125515
CREATED:20220627T044611Z
LAST-MODIFIED:20220629T180511Z
UID:10000302-1660856400-1660856400@rebic.com
SUMMARY:Statesville Iredell County Zoning Board of Adjustment
DESCRIPTION:
URL:https://rebic.com/event/iredell-county-zoning-board-of-adjustment-2022-08-18/
LOCATION:Iredell County Commissioners Meeting Room Statesville\, 200 S Center St\, Statesville\, NC\, 28677\, United States
CATEGORIES:Local Government
END:VEVENT
BEGIN:VEVENT
DTSTART;TZID=America/New_York:20220816T200000
DTEND;TZID=America/New_York:20220816T200000
DTSTAMP:20260419T125515
CREATED:20220627T045031Z
LAST-MODIFIED:20220629T174514Z
UID:10000311-1660680000-1660680000@rebic.com
SUMMARY:Iredell Board of Commissioners Meeting Room
DESCRIPTION:Meetings 5 PM (Pre-Agenda Session)\nMeetings 7 PM (Regular Session)
URL:https://rebic.com/event/iredell-county-board-of-commissioners-2022-08-16/
LOCATION:Iredell County Commissioners Meeting Room Statesville\, 200 S Center St\, Statesville\, NC\, 28677\, United States
CATEGORIES:Local Government
END:VEVENT
BEGIN:VEVENT
DTSTART;TZID=America/New_York:20220803T220000
DTEND;TZID=America/New_York:20220803T220000
DTSTAMP:20260419T125515
CREATED:20220627T044232Z
LAST-MODIFIED:20220629T154002Z
UID:10000295-1659564000-1659564000@rebic.com
SUMMARY:Iredell County Commissioners Planning Board
DESCRIPTION:
URL:https://rebic.com/event/planning-board-2022-08-03/
LOCATION:Iredell County Commissioners Meeting Room Statesville\, 200 S Center St\, Statesville\, NC\, 28677\, United States
CATEGORIES:Local Government
END:VEVENT
BEGIN:VEVENT
DTSTART;TZID=America/New_York:20220802T200000
DTEND;TZID=America/New_York:20220802T200000
DTSTAMP:20260419T125515
CREATED:20220627T045031Z
LAST-MODIFIED:20220629T152216Z
UID:10000310-1659470400-1659470400@rebic.com
SUMMARY:Iredell County Board of Commissioners
DESCRIPTION:Meetings 5 PM (Pre-Agenda Session)\nMeetings 7 PM (Regular Session)
URL:https://rebic.com/event/iredell-county-board-of-commissioners-2022-08-02/
LOCATION:Iredell County Commissioners Meeting Room Statesville\, 200 S Center St\, Statesville\, NC\, 28677\, United States
CATEGORIES:Local Government
END:VEVENT
BEGIN:VEVENT
DTSTART;TZID=America/New_York:20220721T210000
DTEND;TZID=America/New_York:20220721T210000
DTSTAMP:20260419T125515
CREATED:20220627T044611Z
LAST-MODIFIED:20220629T173520Z
UID:10000301-1658437200-1658437200@rebic.com
SUMMARY:Commissioners Meeting Room Iredell County Zoning Board of Adjustment
DESCRIPTION:
URL:https://rebic.com/event/iredell-county-zoning-board-of-adjustment-2022-07-21/
LOCATION:Iredell County Commissioners Meeting Room Statesville\, 200 S Center St\, Statesville\, NC\, 28677\, United States
CATEGORIES:Local Government
END:VEVENT
BEGIN:VEVENT
DTSTART;TZID=America/New_York:20220719T200000
DTEND;TZID=America/New_York:20220719T200000
DTSTAMP:20260419T125515
CREATED:20220627T045031Z
LAST-MODIFIED:20220629T152516Z
UID:10000309-1658260800-1658260800@rebic.com
SUMMARY:Statesville Iredell County Board of Commissioners
DESCRIPTION:Meetings 5 PM (Pre-Agenda Session)\nMeetings 7 PM (Regular Session)
URL:https://rebic.com/event/iredell-county-board-of-commissioners-2022-07-19/
LOCATION:Iredell County Commissioners Meeting Room Statesville\, 200 S Center St\, Statesville\, NC\, 28677\, United States
CATEGORIES:Local Government
END:VEVENT
BEGIN:VEVENT
DTSTART;TZID=America/New_York:20220706T220000
DTEND;TZID=America/New_York:20220706T220000
DTSTAMP:20260419T125515
CREATED:20220627T044232Z
LAST-MODIFIED:20220629T124953Z
UID:10000294-1657144800-1657144800@rebic.com
SUMMARY:Iredell County Commissioners Planning Board
DESCRIPTION:
URL:https://rebic.com/event/planning-board/
LOCATION:Iredell County Commissioners Meeting Room Statesville\, 200 S Center St\, Statesville\, NC\, 28677\, United States
CATEGORIES:Local Government
END:VEVENT
BEGIN:VEVENT
DTSTART;TZID=America/New_York:20220621T200000
DTEND;TZID=America/New_York:20220621T200000
DTSTAMP:20260419T125515
CREATED:20220627T045031Z
LAST-MODIFIED:20220629T130607Z
UID:10000308-1655841600-1655841600@rebic.com
SUMMARY:Iredell County Iredell County Board of Commissioners
DESCRIPTION:Meetings 5 PM (Pre-Agenda Session)\nMeetings 7 PM (Regular Session)
URL:https://rebic.com/event/iredell-county-board-of-commissioners-2022-06-21/
LOCATION:Iredell County Commissioners Meeting Room Statesville\, 200 S Center St\, Statesville\, NC\, 28677\, United States
CATEGORIES:Local Government
END:VEVENT
BEGIN:VEVENT
DTSTART;TZID=America/New_York:20220616T210000
DTEND;TZID=America/New_York:20220616T210000
DTSTAMP:20260419T125515
CREATED:20220627T044611Z
LAST-MODIFIED:20220629T131046Z
UID:10000300-1655413200-1655413200@rebic.com
SUMMARY:Iredell County Commissioners Zoning Board of Adjustment
DESCRIPTION:
URL:https://rebic.com/event/iredell-county-zoning-board-of-adjustment/
LOCATION:Iredell County Commissioners Meeting Room Statesville\, 200 S Center St\, Statesville\, NC\, 28677\, United States
CATEGORIES:Local Government
END:VEVENT
BEGIN:VEVENT
DTSTART;TZID=America/New_York:20220607T200000
DTEND;TZID=America/New_York:20220607T200000
DTSTAMP:20260419T125515
CREATED:20220627T045031Z
LAST-MODIFIED:20220629T131212Z
UID:10000307-1654632000-1654632000@rebic.com
SUMMARY:Iredell County Commissioners Board of Commissioners
DESCRIPTION:Meetings 5 PM (Pre-Agenda Session)\nMeetings 7 PM (Regular Session)
URL:https://rebic.com/event/iredell-county-board-of-commissioners/
LOCATION:Iredell County Commissioners Meeting Room Statesville\, 200 S Center St\, Statesville\, NC\, 28677\, United States
CATEGORIES:Local Government
END:VEVENT
END:VCALENDAR