BEGIN:VCALENDAR
VERSION:2.0
PRODID:-//REBIC - ECPv6.15.20//NONSGML v1.0//EN
CALSCALE:GREGORIAN
METHOD:PUBLISH
X-WR-CALNAME:REBIC
X-ORIGINAL-URL:https://rebic.com
X-WR-CALDESC:Events for REBIC
REFRESH-INTERVAL;VALUE=DURATION:PT1H
X-Robots-Tag:noindex
X-PUBLISHED-TTL:PT1H
BEGIN:VTIMEZONE
TZID:America/New_York
BEGIN:DAYLIGHT
TZOFFSETFROM:-0500
TZOFFSETTO:-0400
TZNAME:EDT
DTSTART:20240310T070000
END:DAYLIGHT
BEGIN:STANDARD
TZOFFSETFROM:-0400
TZOFFSETTO:-0500
TZNAME:EST
DTSTART:20241103T060000
END:STANDARD
BEGIN:DAYLIGHT
TZOFFSETFROM:-0500
TZOFFSETTO:-0400
TZNAME:EDT
DTSTART:20250309T070000
END:DAYLIGHT
BEGIN:STANDARD
TZOFFSETFROM:-0400
TZOFFSETTO:-0500
TZNAME:EST
DTSTART:20251102T060000
END:STANDARD
BEGIN:DAYLIGHT
TZOFFSETFROM:-0500
TZOFFSETTO:-0400
TZNAME:EDT
DTSTART:20260308T070000
END:DAYLIGHT
BEGIN:STANDARD
TZOFFSETFROM:-0400
TZOFFSETTO:-0500
TZNAME:EST
DTSTART:20261101T060000
END:STANDARD
BEGIN:DAYLIGHT
TZOFFSETFROM:-0500
TZOFFSETTO:-0400
TZNAME:EDT
DTSTART:20270314T070000
END:DAYLIGHT
BEGIN:STANDARD
TZOFFSETFROM:-0400
TZOFFSETTO:-0500
TZNAME:EST
DTSTART:20271107T060000
END:STANDARD
END:VTIMEZONE
BEGIN:VEVENT
DTSTART;TZID=America/New_York:20260420T173000
DTEND;TZID=America/New_York:20260420T183000
DTSTAMP:20260423T111855
CREATED:20251021T161011Z
LAST-MODIFIED:20251021T162613Z
UID:10002076-1776706200-1776709800@rebic.com
SUMMARY:Haywood County - Board of Commissioners
DESCRIPTION:Historic Courtroom
URL:https://rebic.com/event/haywood-county-board-of-commissioners-2/2026-04-20/
LOCATION:Haywood County Courthouse\, 215 N Main St\, Waynesville\, NC\, 28786
CATEGORIES:Local Government,Policy and Law
ATTACH;FMTTYPE=image/jpeg:https://rebic.com/wp-content/uploads/2025/10/Haywood.jpeg
END:VEVENT
BEGIN:VEVENT
DTSTART;TZID=America/New_York:20260316T173000
DTEND;TZID=America/New_York:20260316T183000
DTSTAMP:20260423T111855
CREATED:20251021T161011Z
LAST-MODIFIED:20251021T162613Z
UID:10002075-1773682200-1773685800@rebic.com
SUMMARY:Haywood County - Board of Commissioners
DESCRIPTION:Historic Courtroom
URL:https://rebic.com/event/haywood-county-board-of-commissioners-2/2026-03-16/
LOCATION:Haywood County Courthouse\, 215 N Main St\, Waynesville\, NC\, 28786
CATEGORIES:Local Government,Policy and Law
ATTACH;FMTTYPE=image/jpeg:https://rebic.com/wp-content/uploads/2025/10/Haywood.jpeg
END:VEVENT
BEGIN:VEVENT
DTSTART;TZID=America/New_York:20260216T173000
DTEND;TZID=America/New_York:20260216T183000
DTSTAMP:20260423T111855
CREATED:20251021T161011Z
LAST-MODIFIED:20251021T162613Z
UID:10002074-1771263000-1771266600@rebic.com
SUMMARY:Haywood County - Board of Commissioners
DESCRIPTION:Historic Courtroom
URL:https://rebic.com/event/haywood-county-board-of-commissioners-2/2026-02-16/
LOCATION:Haywood County Courthouse\, 215 N Main St\, Waynesville\, NC\, 28786
CATEGORIES:Local Government,Policy and Law
ATTACH;FMTTYPE=image/jpeg:https://rebic.com/wp-content/uploads/2025/10/Haywood.jpeg
END:VEVENT
BEGIN:VEVENT
DTSTART;TZID=America/New_York:20260119T173000
DTEND;TZID=America/New_York:20260119T183000
DTSTAMP:20260423T111855
CREATED:20251021T161011Z
LAST-MODIFIED:20251021T162613Z
UID:10002073-1768843800-1768847400@rebic.com
SUMMARY:Haywood County - Board of Commissioners
DESCRIPTION:Historic Courtroom
URL:https://rebic.com/event/haywood-county-board-of-commissioners-2/2026-01-19/
LOCATION:Haywood County Courthouse\, 215 N Main St\, Waynesville\, NC\, 28786
CATEGORIES:Local Government,Policy and Law
ATTACH;FMTTYPE=image/jpeg:https://rebic.com/wp-content/uploads/2025/10/Haywood.jpeg
END:VEVENT
BEGIN:VEVENT
DTSTART;TZID=America/New_York:20251215T173000
DTEND;TZID=America/New_York:20251215T183000
DTSTAMP:20260423T111855
CREATED:20251021T161011Z
LAST-MODIFIED:20251021T162613Z
UID:10002072-1765819800-1765823400@rebic.com
SUMMARY:Haywood County - Board of Commissioners
DESCRIPTION:Historic Courtroom
URL:https://rebic.com/event/haywood-county-board-of-commissioners-2/2025-12-15/
LOCATION:Haywood County Courthouse\, 215 N Main St\, Waynesville\, NC\, 28786
CATEGORIES:Local Government,Policy and Law
ATTACH;FMTTYPE=image/jpeg:https://rebic.com/wp-content/uploads/2025/10/Haywood.jpeg
END:VEVENT
BEGIN:VEVENT
DTSTART;TZID=America/New_York:20251117T173000
DTEND;TZID=America/New_York:20251117T183000
DTSTAMP:20260423T111855
CREATED:20251021T161011Z
LAST-MODIFIED:20251021T162613Z
UID:10002071-1763400600-1763404200@rebic.com
SUMMARY:Haywood County - Board of Commissioners
DESCRIPTION:Historic Courtroom
URL:https://rebic.com/event/haywood-county-board-of-commissioners-2/2025-11-17/
LOCATION:Haywood County Courthouse\, 215 N Main St\, Waynesville\, NC\, 28786
CATEGORIES:Local Government,Policy and Law
ATTACH;FMTTYPE=image/jpeg:https://rebic.com/wp-content/uploads/2025/10/Haywood.jpeg
END:VEVENT
BEGIN:VEVENT
DTSTART;TZID=America/New_York:20251020T173000
DTEND;TZID=America/New_York:20251020T183000
DTSTAMP:20260423T111855
CREATED:20251021T161011Z
LAST-MODIFIED:20251021T162613Z
UID:10002070-1760981400-1760985000@rebic.com
SUMMARY:Haywood County - Board of Commissioners
DESCRIPTION:Historic Courtroom
URL:https://rebic.com/event/haywood-county-board-of-commissioners-2/2025-10-20/
LOCATION:Haywood County Courthouse\, 215 N Main St\, Waynesville\, NC\, 28786
CATEGORIES:Local Government,Policy and Law
ATTACH;FMTTYPE=image/jpeg:https://rebic.com/wp-content/uploads/2025/10/Haywood.jpeg
END:VEVENT
END:VCALENDAR