BEGIN:VCALENDAR
VERSION:2.0
PRODID:-//REBIC - ECPv6.15.20//NONSGML v1.0//EN
CALSCALE:GREGORIAN
METHOD:PUBLISH
X-WR-CALNAME:REBIC
X-ORIGINAL-URL:https://rebic.com
X-WR-CALDESC:Events for REBIC
REFRESH-INTERVAL;VALUE=DURATION:PT1H
X-Robots-Tag:noindex
X-PUBLISHED-TTL:PT1H
BEGIN:VTIMEZONE
TZID:America/New_York
BEGIN:DAYLIGHT
TZOFFSETFROM:-0500
TZOFFSETTO:-0400
TZNAME:EDT
DTSTART:20250309T070000
END:DAYLIGHT
BEGIN:STANDARD
TZOFFSETFROM:-0400
TZOFFSETTO:-0500
TZNAME:EST
DTSTART:20251102T060000
END:STANDARD
BEGIN:DAYLIGHT
TZOFFSETFROM:-0500
TZOFFSETTO:-0400
TZNAME:EDT
DTSTART:20260308T070000
END:DAYLIGHT
BEGIN:STANDARD
TZOFFSETFROM:-0400
TZOFFSETTO:-0500
TZNAME:EST
DTSTART:20261101T060000
END:STANDARD
BEGIN:DAYLIGHT
TZOFFSETFROM:-0500
TZOFFSETTO:-0400
TZNAME:EDT
DTSTART:20270314T070000
END:DAYLIGHT
BEGIN:STANDARD
TZOFFSETFROM:-0400
TZOFFSETTO:-0500
TZNAME:EST
DTSTART:20271107T060000
END:STANDARD
END:VTIMEZONE
BEGIN:VEVENT
DTSTART;TZID=America/New_York:20260414T180000
DTEND;TZID=America/New_York:20260414T180000
DTSTAMP:20260420T064354
CREATED:20260112T134620Z
LAST-MODIFIED:20260112T134620Z
UID:10003125-1776189600-1776189600@rebic.com
SUMMARY:Town of Midland - Town Council Meeting
DESCRIPTION:
URL:https://rebic.com/event/town-of-midland-town-council-meeting/2026-04-14/
LOCATION:Midland Town Hall\, 4293 NC-24\, Midland\, NC\, 28107\, United States
CATEGORIES:Local Government
ATTACH;FMTTYPE=image/png:https://rebic.com/wp-content/uploads/2026/01/logo.png
END:VEVENT
BEGIN:VEVENT
DTSTART;TZID=America/New_York:20260414T180000
DTEND;TZID=America/New_York:20260414T200000
DTSTAMP:20260420T064354
CREATED:20260105T185942Z
LAST-MODIFIED:20260105T185942Z
UID:10002572-1776189600-1776196800@rebic.com
SUMMARY:Town of Davidson – Board of Commissioners Meeting
DESCRIPTION:
URL:https://rebic.com/event/town-of-davidson-board-of-commissioners-meeting-9/2026-04-14/
LOCATION:Davidson Town Hall\, 216 Main Street\, Davidson\, NC\, 28036
CATEGORIES:Local Government,Policy and Law
ATTACH;FMTTYPE=image/jpeg:https://rebic.com/wp-content/uploads/2024/02/Davidson.jpg
END:VEVENT
BEGIN:VEVENT
DTSTART;TZID=America/New_York:20260414T180000
DTEND;TZID=America/New_York:20260414T200000
DTSTAMP:20260420T064354
CREATED:20260112T123357Z
LAST-MODIFIED:20260112T123357Z
UID:10002895-1776189600-1776196800@rebic.com
SUMMARY:City of Monroe – City Council Meeting
DESCRIPTION:
URL:https://rebic.com/event/city-of-monroe-city-council-meeting-9/2026-04-14/
LOCATION:Monroe Town Hall\, 300 W Crowell Street\, Monroe\, NC\, 28112\, United States
CATEGORIES:Local Government,Policy and Law
ATTACH;FMTTYPE=image/jpeg:https://rebic.com/wp-content/uploads/2024/02/Monroe.jpg
END:VEVENT
BEGIN:VEVENT
DTSTART;TZID=America/New_York:20260414T180000
DTEND;TZID=America/New_York:20260414T200000
DTSTAMP:20260420T064354
CREATED:20260406T175102Z
LAST-MODIFIED:20260406T175546Z
UID:10003299-1776189600-1776196800@rebic.com
SUMMARY:Town Hall with Joi Mayo | Charlotte Councilmember District 3
DESCRIPTION:Alert! We encourage all those who can\, to attend Joi Mayo’s Town Hall on April 14\, 6 – 8 pm. A newly elected Charlotte City Councilmember for District 3\, Joi has rallied around creating conversations that encourage cooperation between community voices and development voices. Please\, attend and engage to help amplify these positive conversations. Now is your chance to directly affect public perception!
URL:https://rebic.com/event/town-hall-with-joi-mayo-charlotte-councilmember-district-3/
LOCATION:South Academy of International Languages\, 8300 Nations Ford Road\, Charlotte\, NC\, 28217
CATEGORIES:Local Government,Policy and Law,Political Leadership
ATTACH;FMTTYPE=image/jpeg:https://rebic.com/wp-content/uploads/2026/04/Joi-Mayo-CalendarEvent.Apr_.6.2026.jpg
END:VEVENT
BEGIN:VEVENT
DTSTART;TZID=America/New_York:20260414T183000
DTEND;TZID=America/New_York:20260414T203000
DTSTAMP:20260420T064354
CREATED:20260112T121702Z
LAST-MODIFIED:20260112T121702Z
UID:10002712-1776191400-1776198600@rebic.com
SUMMARY:Town of Pineville - Town Council Meeting
DESCRIPTION:
URL:https://rebic.com/event/town-of-pineville-town-council-meeting-2/2026-04-14/
LOCATION:Pineville Town Hall\, 505 Main Street\, Pineville\, NC\, 28134
CATEGORIES:Local Government,Policy and Law
ATTACH;FMTTYPE=image/png:https://rebic.com/wp-content/uploads/2023/04/Pineville-logo-1.png
END:VEVENT
BEGIN:VEVENT
DTSTART;TZID=America/New_York:20260414T183000
DTEND;TZID=America/New_York:20260414T203000
DTSTAMP:20260420T064354
CREATED:20260112T122450Z
LAST-MODIFIED:20260112T122450Z
UID:10002787-1776191400-1776198600@rebic.com
SUMMARY:Town of Indian Trail - Town Council Meeting
DESCRIPTION:
URL:https://rebic.com/event/town-of-indian-trail-town-council-meeting-5/2026-04-14/
LOCATION:Indian Trail Town Hall\, 315 Matthews-Indian Trail Road\, IT\, Indian Trail\, NC\, 28079\, United States
CATEGORIES:Local Government,Policy and Law
ATTACH;FMTTYPE=image/png:https://rebic.com/wp-content/uploads/2024/02/Indian-Trail.png
END:VEVENT
BEGIN:VEVENT
DTSTART;TZID=America/New_York:20260414T183000
DTEND;TZID=America/New_York:20260414T203000
DTSTAMP:20260420T064354
CREATED:20260112T132838Z
LAST-MODIFIED:20260112T132838Z
UID:10002956-1776191400-1776198600@rebic.com
SUMMARY:Town of Waxhaw - Board of Commissioners Meeting
DESCRIPTION:
URL:https://rebic.com/event/town-of-waxhaw-board-of-commissioners-meeting-17/2026-04-14/
LOCATION:Waxhaw Police Department\, 3620 Providence Rd S\, Waxhaw\, NC\, 28173\, United States
CATEGORIES:Local Government,Policy and Law
ATTACH;FMTTYPE=image/jpeg:https://rebic.com/wp-content/uploads/2024/02/Waxhaw.jpg
END:VEVENT
END:VCALENDAR